Workbook

Sheet FIN
A1: VEROHALLINTO | C1: YHTEISÖVERON JAKO-OSUUDET
A3: KUNNAT | C3: 46290
A7: Kuntanro | B7: Kunta | C7: Jako-osuus 2027, ennakolliset | D7: Muutos, % | E7: Jako-osuus 2026 | F7: Muutos, % | G7: Jako-osuus 2026, ennakollinen | H7: Muutos, % | I7: Jako-osuus 2025 | J7: Muutos, % | K7: Jako-osuus 2025, ennakollinen | L7: Muutos, % | M7: Jako-osuus 2024 | N7: Muutos, % | O7: Jako-osuus 2024, ennakolliset | P7: Muutos vs. lopulliset | Q7: Jako-osuus 2023 | R7: Muutos, % | S7: Jako-osuus 2022 | T7: Muutos, % | U7: Jako-osuus 2021 | V7: Muutos, % | W7: Jako-osuus 2020 | X7: Muutos, % | Y7: Jako-osuus 2019 | Z7: Muutos, % | AA7: Jako-osuus 2018 | AB7: Muutos, % | AC7: Jako-osuus 2017 | AD7: Muutos, % | AE7: Jako-osuus 2016 | AF7: Muutos, % | AG7: Jako-osuus 2015 | AH7: Muutos, % | AI7: Jako-osuus 2014 | AJ7: Muutos, % | AM7: Jako-osuus 2013 | AN7: Kuntatunnus | BD7: ero lopullinen/ennakko 2025
A8: 005 | B8: Alajärvi | C8: 0.0011963895 | D8: =C8/E8-1 -> 0.014935988 | E8: 0.0011787832 | F8: =E8/I8-1 -> -0.077267141 | G8: 0.0011487354 | H8: =G8/I8-1 -> -0.10078808 | I8: 0.0012774913 | J8: =I8/M8-1 -> -0.037485795 | K8: 0.0012636875 | L8: =K8/M8-1 -> -0.047886147 | M8: 0.0013272441 | N8: =M8/Q8-1 -> 0.15795774 | O8: 0.0012896724 | P8: =O8/M8-1 -> -0.028308043 | Q8: 0.0011461939 | R8: =Q8/S8-1 -> 0.086113161 | S8: 0.0010553172 | T8: =S8/U8-1 -> -0.020950919 | U8: 0.0010779002 | V8: =U8/W8-1 -> -0.014330745 | W8: 0.0010935719 | X8: =W8/Y8-1 -> 0.017008263 | Y8: 0.0010752832 | Z8: =Y8/AA8-1 -> -0.058389354 | AA8: 0.0011419616 | AB8: =AA8/AC8-1 -> -0.12425895 | AC8: 0.0013039946 | AD8: =AC8/AE8-1 -> -0.020255255 | AE8: 0.0013309534 | AF8: =AE8/AG8-1 -> 0.060176988 | AG8: 0.0012554068 | AH8: =AG8/AI8-1 -> 0.046512363 | AI8: 0.0011996101 | AJ8: =AI8/AM8-1 -> -0.052740495 | AM8: 0.0012664007 | AN8: 005 | AR8: 0.0011462721 | AS8: =AR8/Q8-1 -> 6.8225804e-05 | AU8: =EXACT(AV8,B8) -> TRUE | AV8: Alajärvi | AW8: 0.0010553492 | AX8: =AW8/S8-1 -> 3.0317641e-05 | BD8: =I8/K8-1 -> 0.010923434
A9: 009 | B9: Alavieska | C9: 0.00014665385 | D9: =C9/E9-1 -> -0.10033282 | E9: 0.000163009 | F9: =E9/I9-1 -> 0.096702271 | G9: 0.00015827254 | H9: =G9/I9-1 -> 0.064836011 | I9: 0.0001486356 | J9: =I9/M9-1 -> 0.13564498 | K9: 0.00014353534 | L9: =K9/M9-1 -> 0.096676597 | M9: 0.0001308821 | N9: =M9/Q9-1 -> 0.093426846 | O9: 0.00013388544 | P9: =O9/M9-1 -> 0.022946894 | Q9: 0.000119699 | R9: =Q9/S9-1 -> -0.12826294 | S9: 0.0001373109 | T9: =S9/U9-1 -> -0.17668112 | U9: 0.0001667773 | V9: =U9/W9-1 -> 0.066258987 | W9: 0.0001564135 | X9: =W9/Y9-1 -> 0.13239805 | Y9: 0.0001381259 | Z9: =Y9/AA9-1 -> -0.0019242414 | AA9: 0.0001383922 | AB9: =AA9/AC9-1 -> -0.062014248 | AC9: 0.0001475419 | AD9: =AC9/AE9-1 -> -0.15813736 | AE9: 0.0001752565 | AF9: =AE9/AG9-1 -> -0.047158081 | AG9: 0.0001839303 | AH9: =AG9/AI9-1 -> 0.22070557 | AI9: 0.0001506754 | AJ9: =AI9/AM9-1 -> 0.14919471 | AM9: 0.0001311139 | AN9: 009 | AR9: 0.0001197072 | AS9: =AR9/Q9-1 -> 6.8505167e-05 | AU9: =EXACT(AV9,B9) -> TRUE | AV9: Alavieska | AW9: 0.00013731551 | AX9: =AW9/S9-1 -> 3.3605628e-05 | BD9: =I9/K9-1 -> 0.03553316
A10: 010 | B10: Alavus | C10: 0.0014371081 | D10: =C10/E10-1 -> 0.0092381517 | E10: 0.0014239534 | F10: =E10/I10-1 -> 0.13481285 | G10: 0.0014153024 | H10: =G10/I10-1 -> 0.12791844 | I10: 0.0012547914 | J10: =I10/M10-1 -> 0.11961092 | K10: 0.0012443679 | L10: =K10/M10-1 -> 0.11031032 | M10: 0.0011207388 | N10: =M10/Q10-1 -> -0.074591212 | O10: 0.0011338003 | P10: =O10/M10-1 -> 0.011654355 | Q10: 0.0012110743 | R10: =Q10/S10-1 -> -0.085951928 | S10: 0.0013249569 | T10: =S10/U10-1 -> -0.03240688 | U10: 0.0013693327 | V10: =U10/W10-1 -> -0.050754349 | W10: 0.0014425483 | X10: =W10/Y10-1 -> 0.053596196 | Y10: 0.0013691662 | Z10: =Y10/AA10-1 -> 0.070972114 | AA10: 0.0012784331 | AB10: =AA10/AC10-1 -> -0.11853999 | AC10: 0.0014503586 | AD10: =AC10/AE10-1 -> -0.0045544444 | AE10: 0.0014569944 | AF10: =AE10/AG10-1 -> 0.061716421 | AG10: 0.0013723009 | AH10: =AG10/AI10-1 -> -0.018107087 | AI10: 0.0013976075 | AJ10: =AI10/AM10-1 -> 0.0020690148 | AM10: 0.0013947218 | AN10: 010 | AR10: 0.0012111582 | AS10: =AR10/Q10-1 -> 6.9277335e-05 | AU10: =EXACT(AV10,B10) -> TRUE | AV10: Alavus | AW10: 0.0013250056 | AX10: =AW10/S10-1 -> 3.6737131e-05 | BD10: =I10/K10-1 -> 0.0083765734
A11: 016 | B11: Asikkala | C11: 0.00096734564 | D11: =C11/E11-1 -> -0.005180832 | E11: 0.0009723834 | F11: =E11/I11-1 -> 0.10892121 | G11: 0.00097788252 | H11: =G11/I11-1 -> 0.11519249 | I11: 0.0008768733 | J11: =I11/M11-1 -> 0.1430759 | K11: 0.00086830785 | L11: =K11/M11-1 -> 0.13191013 | M11: 0.0007671173 | N11: =M11/Q11-1 -> 0.013411715 | O11: 0.00078161942 | P11: =O11/M11-1 -> 0.018904694 | Q11: 0.0007569651 | R11: =Q11/S11-1 -> -0.086686827 | S11: 0.0008288122 | T11: =S11/U11-1 -> -0.042090976 | U11: 0.0008652306 | V11: =U11/W11-1 -> -0.026413836 | W11: 0.0008887047 | X11: =W11/Y11-1 -> 0.090334208 | Y11: 0.0008150755 | Z11: =Y11/AA11-1 -> 0.059408463 | AA11: 0.0007693685 | AB11: =AA11/AC11-1 -> -0.093741199 | AC11: 0.0008489501 | AD11: =AC11/AE11-1 -> -0.090097341 | AE11: 0.000933012 | AF11: =AE11/AG11-1 -> 0.0056298379 | AG11: 0.0009277887 | AH11: =AG11/AI11-1 -> -0.048103766 | AI11: 0.0009746742 | AJ11: =AI11/AM11-1 -> -0.12929876 | AM11: 0.0011194129 | AN11: 016 | AR11: 0.0007570175 | AS11: =AR11/Q11-1 -> 6.9223799e-05 | AU11: =EXACT(AV11,B11) -> TRUE | AV11: Asikkala | AW11: 0.00082884235 | AX11: =AW11/S11-1 -> 3.6373909e-05 | BD11: =I11/K11-1 -> 0.0098645362
A12: 018 | B12: Askola | C12: 0.00060158645 | D12: =C12/E12-1 -> 0.07766636 | E12: 0.0005582307 | F12: =E12/I12-1 -> 0.26348393 | G12: 0.0005596434 | H12: =G12/I12-1 -> 0.2666814 | I12: 0.0004418186 | J12: =I12/M12-1 -> 0.020287109 | K12: 0.00043893138 | L12: =K12/M12-1 -> 0.013619691 | M12: 0.0004330336 | N12: =M12/Q12-1 -> -0.22935513 | O12: 0.00044446525 | P12: =O12/M12-1 -> 0.026398988 | Q12: 0.0005619107 | R12: =Q12/S12-1 -> 0.0015992485 | S12: 0.0005610135 | T12: =S12/U12-1 -> 0.10863272 | U12: 0.0005060409 | V12: =U12/W12-1 -> -0.015320453 | W12: 0.0005139143 | X12: =W12/Y12-1 -> 0.021956845 | Y12: 0.0005028728 | Z12: =Y12/AA12-1 -> -0.0080510216 | AA12: 0.0005069543 | AB12: =AA12/AC12-1 -> -0.090027544 | AC12: 0.0005571095 | AD12: =AC12/AE12-1 -> -0.014342305 | AE12: 0.000565216 | AF12: =AE12/AG12-1 -> -0.056534863 | AG12: 0.0005990852 | AH12: =AG12/AI12-1 -> -0.073435922 | AI12: 0.0006465664 | AJ12: =AI12/AM12-1 -> 0.090728127 | AM12: 0.0005927842 | AN12: 018 | AR12: 0.0005619498 | AS12: =AR12/Q12-1 -> 6.958401e-05 | AU12: =EXACT(AV12,B12) -> TRUE | AV12: Askola | AW12: 0.00056103682 | AX12: =AW12/S12-1 -> 4.1561322e-05 | BD12: =I12/K12-1 -> 0.0065778301
A13: 019 | B13: Aura | C13: 0.00043560868 | D13: =C13/E13-1 -> -0.059755338 | E13: 0.0004632929 | F13: =E13/I13-1 -> 0.26129383 | G13: 0.00047790888 | H13: =G13/I13-1 -> 0.30108518 | I13: 0.0003673156 | J13: =I13/M13-1 -> 0.31673073 | K13: 0.00036932808 | L13: =K13/M13-1 -> 0.32394495 | M13: 0.0002789603 | N13: =M13/Q13-1 -> -0.10115594 | O13: 0.00028083855 | P13: =O13/M13-1 -> 0.0067330423 | Q13: 0.0003103545 | R13: =Q13/S13-1 -> 0.032685769 | S13: 0.0003005314 | T13: =S13/U13-1 -> 0.16789506 | U13: 0.0002573274 | V13: =U13/W13-1 -> -0.055664365 | W13: 0.0002724957 | X13: =W13/Y13-1 -> -0.13857442 | Y13: 0.0003163311 | Z13: =Y13/AA13-1 -> -0.011483847 | AA13: 0.000320006 | AB13: =AA13/AC13-1 -> 0.10721402 | AC13: 0.0002890191 | AD13: =AC13/AE13-1 -> 0.12901129 | AE13: 0.0002559931 | AF13: =AE13/AG13-1 -> -0.16825326 | AG13: 0.0003077777 | AH13: =AG13/AI13-1 -> -0.040066558 | AI13: 0.000320624 | AJ13: =AI13/AM13-1 -> 0.40744688 | AM13: 0.0002278054 | AN13: 019 | AR13: 0.000310376 | AS13: =AR13/Q13-1 -> 6.9275619e-05 | AU13: =EXACT(AV13,B13) -> TRUE | AV13: Aura | AW13: 0.00030054393 | AX13: =AW13/S13-1 -> 4.1694821e-05 | BD13: =I13/K13-1 -> -0.0054490338
A14: 020 | B14: Akaa | C14: 0.00092774897 | D14: =C14/E14-1 -> 0.019793943 | E14: 0.0009097416 | F14: =E14/I14-1 -> 0.038886993 | G14: 0.00090269058 | H14: =G14/I14-1 -> 0.030835027 | I14: 0.0008756887 | J14: =I14/M14-1 -> -0.081757365 | K14: 0.00086814202 | L14: =K14/M14-1 -> -0.089670777 | M14: 0.0009536572 | N14: =M14/Q14-1 -> -0.041513755 | O14: 0.00095044432 | P14: =O14/M14-1 -> -0.0033690126 | Q14: 0.0009949618 | R14: =Q14/S14-1 -> 0.11965586 | S14: 0.0008886318 | T14: =S14/U14-1 -> 0.05112948 | U14: 0.0008454066 | V14: =U14/W14-1 -> -0.068825732 | W14: 0.000907893 | X14: =W14/Y14-1 -> 0.084734953 | Y14: 0.0008369722 | Z14: =Y14/AA14-1 -> -0.018833513 | AA14: 0.0008530379 | AB14: =AA14/AC14-1 -> -0.15709017 | AC14: 0.0010120156 | AD14: =AC14/AE14-1 -> -0.025950886 | AE14: 0.001038978 | AF14: =AE14/AG14-1 -> -0.0066395933 | AG14: 0.0010459225 | AH14: =AG14/AI14-1 -> -0.10135569 | AI14: 0.0011638893 | AJ14: =AI14/AM14-1 -> 0.037077441 | AM14: 0.0011222781 | AN14: 020 | AR14: 0.0009950301 | AS14: =AR14/Q14-1 -> 6.8645852e-05 | AU14: =EXACT(AV14,B14) -> TRUE | AV14: Akaa | AW14: 0.0008886687 | AX14: =AW14/S14-1 -> 4.1520783e-05 | BD14: =I14/K14-1 -> 0.0086929118
A15: 046 | B15: Enonkoski | C15: 0.00032150221 | D15: =C15/E15-1 -> 0.025397819 | E15: 0.000313539 | F15: =E15/I15-1 -> 0.12821474 | G15: 0.00031424966 | H15: =G15/I15-1 -> 0.13077191 | I15: 0.0002779072 | J15: =I15/M15-1 -> 0.032483182 | K15: 0.00028412523 | L15: =K15/M15-1 -> 0.055584453 | M15: 0.0002691639 | N15: =M15/Q15-1 -> 0.026784669 | O15: 0.00026702302 | P15: =O15/M15-1 -> -0.0079538233 | Q15: 0.0002621425 | R15: =Q15/S15-1 -> -0.067164644 | S15: 0.0002810169 | T15: =S15/U15-1 -> -0.17425833 | U15: 0.0003403206 | V15: =U15/W15-1 -> -0.025850747 | W15: 0.0003493516 | X15: =W15/Y15-1 -> 0.10645832 | Y15: 0.0003157386 | Z15: =Y15/AA15-1 -> 0.044065969 | AA15: 0.0003024125 | AB15: =AA15/AC15-1 -> -0.03226049 | AC15: 0.0003124937 | AD15: =AC15/AE15-1 -> -0.12830446 | AE15: 0.0003584895 | AF15: =AE15/AG15-1 -> -0.049317849 | AG15: 0.0003770866 | AH15: =AG15/AI15-1 -> 0.10842589 | AI15: 0.0003402001 | AJ15: =AI15/AM15-1 -> 0.020679709 | AM15: 0.0003333074 | AN15: 046 | AR15: 0.0002621605 | AS15: =AR15/Q15-1 -> 6.8664944e-05 | AU15: =EXACT(AV15,B15) -> TRUE | AV15: Enonkoski | AW15: 0.00028102645 | AX15: =AW15/S15-1 -> 3.3999496e-05 | BD15: =I15/K15-1 -> -0.021884815
A16: 047 | B16: Enontekiö | C16: 0.00036637182 | D16: =C16/E16-1 -> -0.061081268 | E16: 0.0003902061 | F16: =E16/I16-1 -> 0.26811916 | G16: 0.0003854697 | H16: =G16/I16-1 -> 0.25272649 | I16: 0.0003077046 | J16: =I16/M16-1 -> 0.22069251 | K16: 0.00030072444 | L16: =K16/M16-1 -> 0.19300156 | M16: 0.0002520738 | N16: =M16/Q16-1 -> -0.10300055 | O16: 0.00025527043 | P16: =O16/M16-1 -> 0.012681314 | Q16: 0.0002810189 | R16: =Q16/S16-1 -> -0.083008873 | S16: 0.0003064576 | T16: =S16/U16-1 -> 0.16138734 | U16: 0.000263872 | V16: =U16/W16-1 -> 0.11711239 | W16: 0.000236209 | X16: =W16/Y16-1 -> 0.14994418 | Y16: 0.0002054091 | Z16: =Y16/AA16-1 -> -0.0017776706 | AA16: 0.0002057749 | AB16: =AA16/AC16-1 -> -0.075087929 | AC16: 0.0002224805 | AD16: =AC16/AE16-1 -> 0.031575467 | AE16: 0.0002156706 | AF16: =AE16/AG16-1 -> 0.055272089 | AG16: 0.0002043744 | AH16: =AG16/AI16-1 -> -0.077362298 | AI16: 0.000221511 | AJ16: =AI16/AM16-1 -> 0.016520973 | AM16: 0.0002179109 | AN16: 047 | AR16: 0.0002810388 | AS16: =AR16/Q16-1 -> 7.0813742e-05 | AU16: =EXACT(AV16,B16) -> TRUE | AV16: Enontekiö | AW16: 0.00030647054 | AX16: =AW16/S16-1 -> 4.2227192e-05 | BD16: =I16/K16-1 -> 0.023211158
A17: 049 | B17: Espoo | C17: 0.075083227 | D17: =C17/E17-1 -> -0.048868802 | E17: 0.078940978 | F17: =E17/I17-1 -> -0.057946576 | G17: 0.078400323 | H17: =G17/I17-1 -> -0.064398559 | I17: 0.08379671 | J17: =I17/M17-1 -> 0.029813701 | K17: 0.083460769 | L17: =K17/M17-1 -> 0.025685174 | M17: 0.081370747 | N17: =M17/Q17-1 -> 0.097820267 | O17: 0.081861144 | P17: =O17/M17-1 -> 0.006026701 | Q17: 0.074120281 | R17: =Q17/S17-1 -> -0.0069206595 | S17: 0.074636817 | T17: =S17/U17-1 -> 0.040512393 | U17: 0.07173083 | V17: =U17/W17-1 -> 0.033586734 | W17: 0.069399913 | X17: =W17/Y17-1 -> 0.025123568 | Y17: 0.067699071 | Z17: =Y17/AA17-1 -> 0.0041533256 | AA17: 0.067419058 | AB17: =AA17/AC17-1 -> -0.066601563 | AC17: 0.072229667 | AD17: =AC17/AE17-1 -> -0.07634549 | AE17: 0.078199874 | AF17: =AE17/AG17-1 -> -0.061296831 | AG17: 0.083306286 | AH17: =AG17/AI17-1 -> 0.0073981438 | AI17: 0.0826945 | AJ17: =AI17/AM17-1 -> -0.040672639 | AM17: 0.086200502 | AN17: 049 | AR17: 0.074103526 | AS17: =AR17/Q17-1 -> -0.00022606093 | AU17: =EXACT(AV17,B17) -> TRUE | AV17: Espoo | AW17: 0.074639562 | AX17: =AW17/S17-1 -> 3.6777905e-05 | BD17: =I17/K17-1 -> 0.0040251402
A18: 050 | B18: Eura | C18: 0.0013228425 | D18: =C18/E18-1 -> 0.0015525459 | E18: 0.0013207919 | F18: =E18/I18-1 -> 0.046767195 | G18: 0.0014100887 | H18: =G18/I18-1 -> 0.11753757 | I18: 0.0012617819 | J18: =I18/M18-1 -> 0.04010787 | K18: 0.0013177521 | L18: =K18/M18-1 -> 0.086245063 | M18: 0.001213126 | N18: =M18/Q18-1 -> -0.02621513 | O18: 0.0012215743 | P18: =O18/M18-1 -> 0.0069640631 | Q18: 0.0012457844 | R18: =Q18/S18-1 -> 0.03279501 | S18: 0.0012062262 | T18: =S18/U18-1 -> -0.057076215 | U18: 0.0012792404 | V18: =U18/W18-1 -> 0.0010941883 | W18: 0.0012778422 | X18: =W18/Y18-1 -> 0.17460974 | Y18: 0.0010878866 | Z18: =Y18/AA18-1 -> 0.034280857 | AA18: 0.001051829 | AB18: =AA18/AC18-1 -> -0.11275002 | AC18: 0.0011854934 | AD18: =AC18/AE18-1 -> -0.1487294 | AE18: 0.0013926164 | AF18: =AE18/AG18-1 -> -0.10838581 | AG18: 0.0015619047 | AH18: =AG18/AI18-1 -> 0.0097379066 | AI18: 0.0015468417 | AJ18: =AI18/AM18-1 -> -0.029678565 | AM18: 0.0015941539 | AN18: 050 | AR18: 0.0012458701 | AS18: =AR18/Q18-1 -> 6.8792e-05 | AU18: =EXACT(AV18,B18) -> TRUE | AV18: Eura | AW18: 0.0012062732 | AX18: =AW18/S18-1 -> 3.8947283e-05 | BD18: =I18/K18-1 -> -0.042474019
A19: 051 | B19: Eurajoki | C19: 0.00098300755 | D19: =C19/E19-1 -> -0.019700134 | E19: 0.0010027621 | F19: =E19/I19-1 -> -0.19838371 | G19: 0.0010375463 | H19: =G19/I19-1 -> -0.17057694 | I19: 0.0012509253 | J19: =I19/M19-1 -> -0.2649779 | K19: 0.001241205 | L19: =K19/M19-1 -> -0.27068936 | M19: 0.001701888 | N19: =M19/Q19-1 -> 0.11055601 | O19: 0.0017206472 | P19: =O19/M19-1 -> 0.011022578 | Q19: 0.0015324648 | R19: =Q19/S19-1 -> 0.39184755 | S19: 0.0011010292 | T19: =S19/U19-1 -> -0.080839024 | U19: 0.0011978633 | V19: =U19/W19-1 -> -0.1215889 | W19: 0.0013636705 | X19: =W19/Y19-1 -> 0.0049471708 | Y19: 0.0013569574 | Z19: =Y19/AA19-1 -> 0.092184119 | AA19: 0.0012424255 | AB19: =AA19/AC19-1 -> 0.16976849 | AC19: 0.0010621123 | AD19: =AC19/AE19-1 -> -0.11843364 | AE19: 0.0012048013 | AF19: =AE19/AG19-1 -> -0.10005498 | AG19: 0.0013387499 | AH19: =AG19/AI19-1 -> -0.58333172 | AI19: 0.0032129873 | AJ19: =AI19/AM19-1 -> -0.076800131 | AM19: 0.0034802727 | AN19: 051 | AR19: 0.0015325681 | AS19: =AR19/Q19-1 -> 6.7407747e-05 | AU19: =EXACT(AV19,B19) -> TRUE | AV19: Eurajoki | AW19: 0.0011010746 | AX19: =AW19/S19-1 -> 4.1203673e-05 | BD19: =I19/K19-1 -> 0.0078313219
... A163: 505 | B163: Mäntsälä | C163: 0.0016828419 | D163: =C163/E163-1 -> -0.11101791 | E163: 0.0018929986 | F163: =E163/I163-1 -> -0.028150541 | G163: 0.0018992446 | H163: =G163/I163-1 -> -0.024943886 | I163: 0.0019478311 | J163: =I163/M163-1 -> 0.068139148 | K163: 0.0019087538 | L163: =K163/M163-1 -> 0.046710188 | M163: 0.0018235743 | N163: =M163/Q163-1 -> -0.048100669 | O163: 0.0017335363 | P163: =O163/M163-1 -> -0.049374443 | Q163: 0.0019157218 | R163: =Q163/S163-1 -> -0.052065679 | S163: 0.0020209436 | T163: =S163/U163-1 -> -0.069464246 | U163: 0.0021718065 | V163: =U163/W163-1 -> -0.040855511 | W163: 0.0022643163 | X163: =W163/Y163-1 -> 0.19910604 | Y163: 0.001888337 | Z163: =Y163/AA163-1 -> 0.26164719 | AA163: 0.0014967235 | AB163: =AA163/AC163-1 -> -0.013719216 | AC163: 0.001517543 | AD163: =AC163/AE163-1 -> -0.070757813 | AE163: 0.0016330974 | AF163: =AE163/AG163-1 -> 0.038342764 | AG163: 0.0015727922 | AH163: =AG163/AI163-1 -> 0.018431843 | AI163: 0.0015443274 | AJ163: =AI163/AM163-1 -> -0.032074537 | AM163: 0.0015955024 | AN163: 505 | AR163: 0.0019158544 | AS163: =AR163/Q163-1 -> 6.9216731e-05 | AU163: =EXACT(AV163,B163) -> TRUE | AV163: Mäntsälä | AW163: 0.0020210197 | AX163: =AW163/S163-1 -> 3.7647132e-05 | BD163: =I163/K163-1 -> 0.020472677
A164: 507 | B164: Mäntyharju | C164: 0.0017127414 | D164: =C164/E164-1 -> 0.057483849 | E164: 0.0016196384 | F164: =E164/I164-1 -> 0.028503333 | G164: 0.0016202839 | H164: =G164/I164-1 -> 0.028913258 | I164: 0.0015747527 | J164: =I164/M164-1 -> 0.097765324 | K164: 0.0015910256 | L164: 0.10906961 | M164: 0.0014345076 | N164: 0.073087544 | Q164: 0.0013367589 | R164: -0.13496173 | S164: 0.0015453712 | T164: -0.18513564 | U164: 0.0018965424 | V164: =U164/W164-1 -> -0.027287751 | W164: 0.0019497466 | X164: =W164/Y164-1 -> 0.15729678 | Y164: 0.0016847421 | Z164: =Y164/AA164-1 -> 0.033396007 | AA164: 0.0016302967 | AB164: =AA164/AC164-1 -> -0.038664936 | AC164: 0.0016958673 | AD164: -0.049266056 | AE164: 0.0017837454 | AF164: -0.060666191 | AG164: 0.0018989473 | AH164: 0.0411554 | AI164: 0.0018238846 | AJ164: 0.042215543 | AM164: 0.0017500071 | BD164: =I164/K164-1 -> -0.01022791
A165: 508 | B165: Mänttä-Vilppula | C165: 0.001141202 | D165: =C165/E165-1 -> -0.20091021 | E165: 0.0014281274 | F165: =E165/I165-1 -> -0.47797973 | G165: 0.0014311958 | H165: =G165/I165-1 -> -0.47685816 | I165: 0.00273577 | J165: =I165/M165-1 -> -0.12403419 | K165: 0.0027204197 | L165: =K165/M165-1 -> -0.12894921 | M165: 0.003123147 | N165: =M165/Q165-1 -> 0.75321133 | O165: 0.0031067259 | P165: =O165/M165-1 -> -0.0052578843 | Q165: 0.0017813865 | R165: =Q165/S165-1 -> 0.21915409 | S165: 0.001461166 | T165: =S165/U165-1 -> -0.33362427 | U165: 0.0021927059 | V165: =U165/W165-1 -> 0.05712464 | W165: 0.002074217 | X165: =W165/Y165-1 -> 0.52164099 | Y165: 0.0013631448 | Z165: =Y165/AA165-1 -> 0.20540225 | AA165: 0.001130863 | AB165: =AA165/AC165-1 -> 0.17357259 | AC165: 0.0009636072 | AD165: =AC165/AE165-1 -> 0.043835567 | AE165: 0.0009231408 | AF165: =AE165/AG165-1 -> 0.028129361 | AG165: 0.0008978839 | AH165: =AG165/AI165-1 -> -0.10501076 | AI165: 0.0010032343 | AJ165: =AI165/AM165-1 -> -0.065281327 | AM165: 0.0010733008 | AN165: 508 | AR165: 0.0017815057 | AS165: =AR165/Q165-1 -> 6.6914171e-05 | AU165: =EXACT(AV165,B165) -> TRUE | AV165: Mänttä-Vilppula | AW165: 0.0014612131 | AX165: =AW165/S165-1 -> 3.2207041e-05 | BD165: =I165/K165-1 -> 0.0056426315
A166: 529 | B166: Naantali | C166: 0.0025452828 | D166: =C166/E166-1 -> -0.079361325 | E166: 0.0027646925 | F166: =E166/I166-1 -> -0.15004905 | G166: 0.0028520984 | H166: =G166/I166-1 -> -0.12317781 | I166: 0.0032527671 | J166: =I166/M166-1 -> -0.095472623 | K166: 0.0032185935 | L166: =K166/M166-1 -> -0.1049756 | M166: 0.0035960958 | N166: =M166/Q166-1 -> -0.080481711 | O166: 0.0035122849 | P166: =O166/M166-1 -> -0.023306078 | Q166: 0.0039108475 | R166: =Q166/S166-1 -> -0.11465676 | S166: 0.0044173235 | T166: =S166/U166-1 -> -0.083750367 | U166: 0.0048210917 | V166: =U166/W166-1 -> -0.087291617 | W166: 0.0052821819 | X166: =W166/Y166-1 -> -0.0008450721 | Y166: 0.0052866495 | Z166: =Y166/AA166-1 -> 0.081289104 | AA166: 0.00488921 | AB166: =AA166/AC166-1 -> 0.18645319 | AC166: 0.0041208621 | AD166: =AC166/AE166-1 -> -0.11082066 | AE166: 0.0046344555 | AF166: =AE166/AG166-1 -> 0.0082400183 | AG166: 0.0045965796 | AH166: =AG166/AI166-1 -> 0.13743523 | AI166: 0.0040411792 | AJ166: =AI166/AM166-1 -> -0.21685128 | AM166: 0.0051601683 | AN166: 529 | AR166: 0.0039111207 | AS166: =AR166/Q166-1 -> 6.9856981e-05 | AU166: =EXACT(AV166,B166) -> TRUE | AV166: Naantali | AW166: 0.0044174919 | AX166: =AW166/S166-1 -> 3.8123655e-05 | BD166: =I166/K166-1 -> 0.010617562
A167: 531 | B167: Nakkila | C167: 0.00038681453 | D167: =C167/E167-1 -> -0.11151996 | E167: 0.0004353666 | F167: =E167/I167-1 -> 0.15187929 | G167: 0.00044051486 | H167: =G167/I167-1 -> 0.16550039 | I167: 0.000377962 | J167: =I167/M167-1 -> -0.026015475 | K167: 0.00037188949 | L167: =K167/M167-1 -> -0.041663967 | M167: 0.0003880575 | N167: =M167/Q167-1 -> 0.12016233 | O167: 0.0003927313 | P167: =O167/M167-1 -> 0.012044096 | Q167: 0.0003464297 | R167: =Q167/S167-1 -> 0.052500188 | S167: 0.0003291493 | T167: =S167/U167-1 -> 0.014442624 | U167: 0.0003244632 | V167: =U167/W167-1 -> 0.22394004 | W167: 0.0002650973 | X167: =W167/Y167-1 -> -0.0063044645 | Y167: 0.0002667792 | Z167: =Y167/AA167-1 -> -0.11971723 | AA167: 0.0003030608 | AB167: =AA167/AC167-1 -> -0.14819166 | AC167: 0.0003557852 | AD167: =AC167/AE167-1 -> -0.17791261 | AE167: 0.0004327827 | AF167: =AE167/AG167-1 -> 0.034702408 | AG167: 0.0004182678 | AH167: =AG167/AI167-1 -> 0.12676291 | AI167: 0.0003712119 | AJ167: =AI167/AM167-1 -> 0.060023324 | AM167: 0.0003501922 | AN167: 531 | AR167: 0.0003464532 | AS167: =AR167/Q167-1 -> 6.7834831e-05 | AU167: =EXACT(AV167,B167) -> TRUE | AV167: Nakkila | AW167: 0.00032916035 | AX167: =AW167/S167-1 -> 3.3586207e-05 | BD167: =I167/K167-1 -> 0.016328815
A168: 535 | B168: Nivala | C168: 0.0011056592 | D168: =C168/E168-1 -> 0.081512029 | E168: 0.0010223272 | F168: =E168/I168-1 -> 0.05844231 | G168: 0.0010057973 | H168: =G168/I168-1 -> 0.041328485 | I168: 0.000965879 | J168: =I168/M168-1 -> 0.13214304 | K168: 0.00094737534 | L168: =K168/M168-1 -> 0.11045421 | M168: 0.0008531422 | N168: =M168/Q168-1 -> 0.082067549 | O168: 0.00080134343 | P168: =O168/M168-1 -> -0.060715278 | Q168: 0.0007884371 | R168: =Q168/S168-1 -> 0.026145034 | S168: 0.0007683486 | T168: =S168/U168-1 -> 0.028672757 | U168: 0.000746932 | V168: =U168/W168-1 -> -0.038370576 | W168: 0.0007767358 | X168: =W168/Y168-1 -> 0.17725931 | Y168: 0.0006597831 | Z168: =Y168/AA168-1 -> 0.084286093 | AA168: 0.0006084954 | AB168: =AA168/AC168-1 -> -0.07889432 | AC168: 0.0006606141 | AD168: =AC168/AE168-1 -> -0.0044144821 | AE168: 0.0006635433 | AF168: =AE168/AG168-1 -> -0.14911245 | AG168: 0.0007798249 | AH168: =AG168/AI168-1 -> -0.18549749 | AI168: 0.0009574248 | AJ168: =AI168/AM168-1 -> 0.051908135 | AM168: 0.0009101791 | AN168: 535 | AR168: 0.0007889192 | AS168: =AR168/Q168-1 -> 0.00061146285 | AU168: =EXACT(AV168,B168) -> TRUE | AV168: Nivala | AW168: 0.00076837971 | AX168: =AW168/S168-1 -> 4.0490847e-05 | BD168: =I168/K168-1 -> 0.019531494
A169: 536 | B169: Nokia | C169: 0.0029037224 | D169: =C169/E169-1 -> -0.022057872 | E169: 0.002969217 | F169: =E169/I169-1 -> 0.092882802 | G169: 0.0031166484 | H169: =G169/I169-1 -> 0.14714804 | I169: 0.0027168668 | J169: =I169/M169-1 -> -0.066864225 | K169: 0.0027592757 | L169: =K169/M169-1 -> -0.052298439 | M169: 0.002911545 | N169: =M169/Q169-1 -> -0.10569804 | O169: 0.0029237636 | P169: =O169/M169-1 -> 0.0041966156 | Q169: 0.0032556621 | R169: =Q169/S169-1 -> -0.10178777 | S169: 0.0036246023 | T169: =S169/U169-1 -> -0.17075469 | U169: 0.0043709651 | V169: =U169/W169-1 -> -0.053407927 | W169: 0.0046175805 | X169: =W169/Y169-1 -> -0.050322566 | Y169: 0.004862262 | Z169: =Y169/AA169-1 -> -0.0054088361 | AA169: 0.0048887042 | AB169: =AA169/AC169-1 -> 0.22012088 | AC169: 0.0040067376 | AD169: =AC169/AE169-1 -> 0.12015756 | AE169: 0.0035769411 | AF169: =AE169/AG169-1 -> -0.11780166 | AG169: 0.004054577 | AH169: =AG169/AI169-1 -> -0.05764051 | AI169: 0.0043025799 | AJ169: =AI169/AM169-1 -> 0.30383797 | AM169: 0.0032999345 | AN169: 536 | AR169: 0.003237061 | AS169: =AR169/Q169-1 -> -0.0057134615 | AU169: =EXACT(AV169,B169) -> TRUE | AV169: Nokia | AW169: 0.0036210968 | AX169: =AW169/S169-1 -> -0.00096715415 | BD169: =I169/K169-1 -> -0.015369591
A170: 538 | B170: Nousiainen | C170: 0.00026468932 | D170: =C170/E170-1 -> -0.029654417 | E170: 0.0002727784 | F170: =E170/I170-1 -> 0.28630407 | G170: 0.00027777038 | H170: =G170/I170-1 -> 0.30984408 | I170: 0.0002120637 | J170: =I170/M170-1 -> 0.35378963 | K170: 0.00020766547 | L170: =K170/M170-1 -> 0.32571184 | M170: 0.0001566445 | N170: =M170/Q170-1 -> -0.077457427 | O170: 0.00015969908 | P170: =O170/M170-1 -> 0.019500067 | Q170: 0.0001697965 | R170: =Q170/S170-1 -> -0.1157381 | S170: 0.0001920206 | T170: =S170/U170-1 -> -0.0014799392 | U170: 0.0001923052 | V170: =U170/W170-1 -> 0.030206245 | W170: 0.0001866667 | X170: =W170/Y170-1 -> -0.12938353 | Y170: 0.0002144075 | Z170: =Y170/AA170-1 -> -0.08678517 | AA170: 0.0002347832 | AB170: =AA170/AC170-1 -> -0.04734831 | AC170: 0.0002464523 | AD170: =AC170/AE170-1 -> 0.04901531 | AE170: 0.0002349368 | AF170: =AE170/AG170-1 -> 0.21305411 | AG170: 0.0001936738 | AH170: =AG170/AI170-1 -> -0.0062807244 | AI170: 0.0001948979 | AJ170: =AI170/AM170-1 -> -0.11826904 | AM170: 0.0002210401 | AN170: 538 | AR170: 0.0001698083 | AS170: =AR170/Q170-1 -> 6.9494954e-05 | AU170: =EXACT(AV170,B170) -> TRUE | AV170: Nousiainen | AW170: 0.00019202781 | AX170: =AW170/S170-1 -> 3.7562912e-05 | BD170: =I170/K170-1 -> 0.021179411
A171: 541 | B171: Nurmes | C171: 0.0021439115 | D171: =C171/E171-1 -> 0.068340556 | E171: 0.0020067679 | F171: =E171/I171-1 -> 0.087638521 | G171: 0.0019240009 | H171: =G171/I171-1 -> 0.042780018 | I171: 0.0018450688 | J171: =I171/M171-1 -> 0.12094102 | K171: 0.0018269002 | L171: =K171/M171-1 -> 0.10990299 | M171: 0.0016459999 | N171: =M171/Q171-1 -> 0.14369826 | O171: 0.0016101957 | P171: =O171/M171-1 -> -0.021752274 | Q171: 0.0014391907 | R171: =Q171/S171-1 -> -0.074363167 | S171: 0.0015548114 | T171: =S171/U171-1 -> -0.11098195 | U171: 0.0017489087 | V171: =U171/W171-1 -> -0.0090089135 | W171: 0.0017648077 | X171: =W171/Y171-1 -> 0.03128277 | Y171: 0.0017112743 | Z171: =Y171/AA171-1 -> -0.073199242 | AA171: 0.0018464317 | AB171: =AA171/AC171-1 -> -0.13326364 | AC171: 0.0021303268 | AD171: -0.054235018 | AE171: 0.0021773165 | AF171: -0.01116267 | AG171: 0.0019482614 | AH171: -0.00025252039 | AI171: 0.0019487535 | AJ171: 0.48950568 | AM171: 0.0013083223 | AN171: 541 | AR171: 0.00143929 | AS171: =AR171/Q171-1 -> 6.8997111e-05 | AU171: =EXACT(AV171,B171) -> TRUE | AV171: Nurmes | AW171: 0.0015548671 | AX171: =AW171/S171-1 -> 3.5802139e-05 | BD171: =I171/K171-1 -> 0.0099450331
A172: 543 | B172: Nurmijärvi | C172: 0.0031466048 | D172: =C172/E172-1 -> -0.067294431 | E172: 0.0033736314 | F172: =E172/I172-1 -> -0.058203099 | G172: 0.0033966915 | H172: =G172/I172-1 -> -0.051765558 | I172: 0.003582122 | J172: =I172/M172-1 -> -0.10006176 | K172: 0.0035451167 | L172: =K172/M172-1 -> -0.10935863 | M172: 0.0039804087 | N172: =M172/Q172-1 -> -0.13347797 | O172: 0.0039860479 | P172: =O172/M172-1 -> 0.0014167458 | Q172: 0.0045935459 | R172: =Q172/S172-1 -> 0.015060106 | S172: 0.004525393 | T172: =S172/U172-1 -> 0.091691914 | U172: 0.0041453023 | V172: =U172/W172-1 -> -0.12726215 | W172: 0.004749768 | X172: =W172/Y172-1 -> 0.033780549 | Y172: 0.0045945612 | Z172: =Y172/AA172-1 -> 0.12350241 | AA172: 0.0040894983 | AB172: =AA172/AC172-1 -> -0.036635998 | AC172: 0.0042450188 | AD172: =AC172/AE172-1 -> 0.026023242 | AE172: 0.0041373515 | AF172: =AE172/AG172-1 -> -0.040775317 | AG172: 0.0043132246 | AH172: =AG172/AI172-1 -> -0.040092789 | AI172: 0.0044933766 | AJ172: =AI172/AM172-1 -> 0.013343874 | AM172: 0.0044342071 | AN172: 543 | AR172: 0.0045938643 | AS172: =AR172/Q172-1 -> 6.9314644e-05 | AU172: =EXACT(AV172,B172) -> TRUE | AV172: Nurmijärvi | AW172: 0.0045255768 | AX172: =AW172/S172-1 -> 4.0611269e-05 | BD172: =I172/K172-1 -> 0.010438396
A173: 545 | B173: Närpiö | C173: 0.0019652627 | D173: =C173/E173-1 -> 0.044404367 | E173: 0.0018817067 | F173: =E173/I173-1 -> 0.074586929 | G173: 0.0018577367 | H173: =G173/I173-1 -> 0.060898345 | I173: 0.0017510977 | J173: =I173/M173-1 -> 0.19606381 | K173: 0.001705797 | L173: =K173/M173-1 -> 0.16512174 | M173: 0.0014640504 | N173: =M173/Q173-1 -> -0.01545918 | O173: 0.001469747 | P173: =O173/M173-1 -> 0.0038909841 | Q173: 0.0014870388 | R173: =Q173/S173-1 -> -0.10096721 | S173: 0.0016540429 | T173: =S173/U173-1 -> -0.0030371619 | U173: 0.0016590818 | V173: =U173/W173-1 -> 0.084715929 | W173: 0.0015295081 | X173: =W173/Y173-1 -> 0.10317666 | Y173: 0.001386458 | Z173: =Y173/AA173-1 -> -0.013727143 | AA173: 0.001405755 | AB173: =AA173/AC173-1 -> -0.025053623 | AC173: 0.0014418793 | AD173: =AC173/AE173-1 -> -0.0032872844 | AE173: 0.0014466348 | AF173: =AE173/AG173-1 -> 0.0021498666 | AG173: 0.0014435314 | AH173: =AG173/AI173-1 -> 0.057537197 | AI173: 0.0013649935 | AJ173: =AI173/AM173-1 -> -0.014455729 | AM173: 0.0013850149 | AN173: 545 | AR173: 0.0014871421 | AS173: =AR173/Q173-1 -> 6.9466916e-05 | AU173: =EXACT(AV173,B173) -> TRUE | AV173: Närpiö | AW173: 0.0016541037 | AX173: =AW173/S173-1 -> 3.6754727e-05 | BD173: =I173/K173-1 -> 0.02655694
A174: 560 | B174: Orimattila | C174: 0.001264832 | D174: =C174/E174-1 -> -0.08016762 | E174: 0.0013750679 | F174: =E174/I174-1 -> -0.0049538549 | G174: 0.0013888221 | H174: =G174/I174-1 -> 0.0049991809 | I174: 0.0013819137 | J174: =I174/M174-1 -> 0.068736582 | K174: 0.0013735245 | L174: =K174/M174-1 -> 0.062248566 | M174: 0.0012930349 | N174: =M174/Q174-1 -> -0.043973376 | O174: 0.0013114073 | P174: =O174/M174-1 -> 0.014208725 | Q174: 0.0013525093 | R174: =Q174/S174-1 -> -0.085732365 | S174: 0.0014793363 | T174: =S174/U174-1 -> -0.01563068 | U174: 0.0015028265 | V174: =U174/W174-1 -> 0.091651887 | W174: 0.0013766536 | X174: =W174/Y174-1 -> 0.12082278 | Y174: 0.0012282527 | Z174: =Y174/AA174-1 -> -0.026468737 | AA174: 0.0012616469 | AB174: =AA174/AC174-1 -> -0.10408929 | AC174: 0.0014082284 | AD174: =AC174/AE174-1 -> -0.1087664 | AE174: 0.001580089 | AF174: =AE174/AG174-1 -> -0.051373345 | AG174: 0.0016656595 | AH174: =AG174/AI174-1 -> 0.021693966 | AI174: 0.001630292 | AJ174: =AI174/AM174-1 -> 0.055664956 | AM174: 0.0015443271 | AN174: 560 | AR174: 0.0013526031 | AS174: =AR174/Q174-1 -> 6.9352573e-05 | AU174: =EXACT(AV174,B174) -> TRUE | AV174: Orimattila | AW174: 0.0014793908 | AX174: =AW174/S174-1 -> 3.6842926e-05 | BD174: =I174/K174-1 -> 0.0061078136
A175: 561 | B175: Oripää | C175: 0.00031232464 | D175: =C175/E175-1 -> 0.16075348 | E175: 0.0002690706 | F175: =E175/I175-1 -> 0.30296936 | G175: 0.00027183184 | H175: =G175/I175-1 -> 0.31634061 | I175: 0.0002065057 | J175: =I175/M175-1 -> -0.0083078934 | K175: 0.00020255519 | L175: =K175/M175-1 -> -0.027279219 | M175: 0.0002082357 | N175: =M175/Q175-1 -> -0.18763505 | O175: 0.00020911734 | P175: =O175/M175-1 -> 0.0042338723 | Q175: 0.0002563327 | R175: =Q175/S175-1 -> -0.056733048 | S175: 0.0002717499 | T175: =S175/U175-1 -> 0.047390638 | U175: 0.0002594542 | V175: =U175/W175-1 -> -0.032406853 | W175: 0.0002681439 | X175: =W175/Y175-1 -> 0.15466538 | Y175: 0.0002322265 | Z175: =Y175/AA175-1 -> 0.20582834 | AA175: 0.0001925867 | AB175: =AA175/AC175-1 -> -0.0054024938 | AC175: 0.0001936328 | AD175: =AC175/AE175-1 -> -0.25699082 | AE175: 0.0002606062 | AF175: =AE175/AG175-1 -> 0.033154921 | AG175: 0.0002522431 | AH175: =AG175/AI175-1 -> 0.3056987 | AI175: 0.0001931863 | AJ175: =AI175/AM175-1 -> -0.20433848 | AM175: 0.0002427996 | AN175: 561 | AR175: 0.0002563506 | AS175: =AR175/Q175-1 -> 6.9831122e-05 | AU175: =EXACT(AV175,B175) -> TRUE | AV175: Oripää | AW175: 0.00027176097 | AX175: =AW175/S175-1 -> 4.0738823e-05 | BD175: =I175/K175-1 -> 0.019503362
A176: 562 | B176: Orivesi | C176: 0.0011056634 | D176: =C176/E176-1 -> 0.034220609 | E176: 0.0010690789 | F176: =E176/I176-1 -> 0.1545131 | G176: 0.0010674357 | H176: =G176/I176-1 -> 0.15273863 | I176: 0.0009259998 | J176: =I176/M176-1 -> 0.090269251 | K176: 0.0009256833 | L176: =K176/M176-1 -> 0.089896601 | M176: 0.0008493313 | N176: =M176/Q176-1 -> -0.06089433 | O176: 0.00084901996 | P176: =O176/M176-1 -> -0.0003665693 | Q176: 0.0009044044 | R176: =Q176/S176-1 -> -0.080295394 | S176: 0.000983364 | T176: =S176/U176-1 -> -0.046732652 | U176: 0.0010315721 | V176: =U176/W176-1 -> -0.03550433 | W176: 0.0010695456 | X176: =W176/Y176-1 -> 0.037383999 | Y176: 0.0010310026 | Z176: =Y176/AA176-1 -> 0.013257323 | AA176: 0.0010175131 | AB176: =AA176/AC176-1 -> -0.035776085 | AC176: 0.0010552664 | AD176: =AC176/AE176-1 -> -0.029270277 | AE176: 0.0010870857 | AF176: =AE176/AG176-1 -> 0.023249464 | AG176: 0.0010623858 | AH176: =AG176/AI176-1 -> 0.068618947 | AI176: 0.0009941671 | AJ176: =AI176/AM176-1 -> 0.022239851 | AM176: 0.000972538 | AN176: 562 | AR176: 0.0009044672 | AS176: =AR176/Q176-1 -> 6.9437964e-05 | AU176: =EXACT(AV176,B176) -> TRUE | AV176: Orivesi | AW176: 0.00098340058 | AX176: =AW176/S176-1 -> 3.720237e-05 | BD176: =I176/K176-1 -> 0.0003419132
A177: 563 | B177: Oulainen | C177: 0.00090481662 | D177: =C177/E177-1 -> 0.10168041 | E177: 0.0008213059 | F177: =E177/I177-1 -> 0.16532151 | G177: 0.00079938331 | H177: =G177/I177-1 -> 0.13421633 | I177: 0.0007047891 | J177: =I177/M177-1 -> -0.22368342 | K177: 0.00071464853 | L177: =K177/M177-1 -> -0.21282338 | M177: 0.000907863 | N177: =M177/Q177-1 -> 0.038686499 | O177: 0.00093193979 | P177: =O177/M177-1 -> 0.026520286 | Q177: 0.0008740491 | R177: =Q177/S177-1 -> 0.31699175 | S177: 0.0006636709 | T177: =S177/U177-1 -> -0.14595549 | U177: 0.0007770917 | V177: =U177/W177-1 -> -0.15384772 | W177: 0.0009183828 | X177: =W177/Y177-1 -> 0.19848271 | Y177: 0.0007662879 | Z177: =Y177/AA177-1 -> 0.28227668 | AA177: 0.0005975995 | AB177: =AA177/AC177-1 -> -0.14090012 | AC177: 0.0006956112 | AD177: =AC177/AE177-1 -> 0.051830232 | AE177: 0.0006613341 | AF177: =AE177/AG177-1 -> -0.054397981 | AG177: 0.0006993789 | AH177: =AG177/AI177-1 -> -0.1408947 | AI177: 0.0008140782 | AJ177: =AI177/AM177-1 -> 0.093627558 | AM177: 0.0007443834 | AN177: 563 | AR177: 0.0008741078 | AS177: =AR177/Q177-1 -> 6.7158699e-05 | AU177: =EXACT(AV177,B177) -> TRUE | AV177: Oulainen | AW177: 0.00066369535 | AX177: =AW177/S177-1 -> 3.684754e-05 | BD177: =I177/K177-1 -> -0.013796191
A178: 564 | B178: Oulu | C178: 0.028124994 | D178: =C178/E178-1 -> 0.031781469 | E178: 0.027258673 | F178: =E178/I178-1 -> 0.111812 | G178: 0.027311346 | H178: =G178/I178-1 -> 0.11396037 | I178: 0.02451734 | J178: =I178/M178-1 -> 0.016196401 | K178: 0.024554105 | L178: =K178/M178-1 -> 0.017720219 | M178: 0.024126577 | N178: =M178/Q178-1 -> -0.051167871 | O178: 0.024407284 | P178: =O178/M178-1 -> 0.011634767 | Q178: 0.025427656 | R178: =Q178/S178-1 -> 0.0083764109 | S178: 0.025216433 | T178: =S178/U178-1 -> 0.047060867 | U178: 0.024083063 | V178: =U178/W178-1 -> 0.035573066 | W178: 0.023255783 | X178: =W178/Y178-1 -> -0.020228559 | Y178: 0.023735927 | Z178: =Y178/AA178-1 -> -0.03113335 | AA178: 0.024498652 | AB178: =AA178/AC178-1 -> 0.049952211 | AC178: 0.023333111 | AD178: =AC178/AE178-1 -> 0.065661245 | AE178: 0.02189543 | AF178: =AE178/AG178-1 -> -0.027763311 | AG178: 0.022520679 | AH178: =AG178/AI178-1 -> 0.0039164355 | AI178: 0.022432822 | AJ178: =AI178/AM178-1 -> 0.037628099 | AM178: 0.021619328 | AN178: 564 | AR178: 0.025429408 | AS178: =AR178/Q178-1 -> 6.8913156e-05 | AU178: =EXACT(AV178,B178) -> TRUE | AV178: Oulu | AW178: 0.025217395 | AX178: =AW178/S178-1 -> 3.8171623e-05 | BD178: =I178/K178-1 -> -0.001497286
A179: 576 | B179: Padasjoki | C179: 0.00061629911 | D179: =C179/E179-1 -> 0.035027254 | E179: 0.0005954424 | F179: =E179/I179-1 -> 0.1505493 | G179: 0.00060376576 | H179: =G179/I179-1 -> 0.16663219 | I179: 0.0005175288 | J179: =I179/M179-1 -> 0.14226184 | K179: 0.00051849343 | L179: =K179/M179-1 -> 0.14439093 | M179: 0.0004530737 | N179: =M179/Q179-1 -> -0.014892918 | O179: 0.00046463851 | P179: =O179/M179-1 -> 0.025525234 | Q179: 0.0004599233 | R179: =Q179/S179-1 -> -0.15586861 | S179: 0.000544848 | T179: =S179/U179-1 -> -0.15449432 | U179: 0.0006444049 | V179: =U179/W179-1 -> -0.040976369 | W179: 0.0006719385 | X179: =W179/Y179-1 -> 0.048715908 | Y179: 0.000640725 | Z179: =Y179/AA179-1 -> 0.020502264 | AA179: 0.0006278526 | AB179: =AA179/AC179-1 -> -0.058058238 | AC179: 0.0006665514 | AD179: =AC179/AE179-1 -> -0.10964602 | AE179: 0.0007486364 | AF179: =AE179/AG179-1 -> 0.018260054 | AG179: 0.0007352114 | AH179: =AG179/AI179-1 -> 0.11720791 | AI179: 0.0006580793 | AJ179: =AI179/AM179-1 -> 0.041207383 | AM179: 0.0006320348 | AN179: 576 | AR179: 0.0004599553 | AS179: =AR179/Q179-1 -> 6.9576819e-05 | AU179: =EXACT(AV179,B179) -> TRUE | AV179: Padasjoki | AW179: 0.00054486677 | AX179: =AW179/S179-1 -> 3.4458025e-05 | BD179: =I179/K179-1 -> -0.001860451
A180: 577 | B180: Paimio | C180: 0.00081106426 | D180: =C180/E180-1 -> -0.10792979 | E180: 0.0009091933 | F180: =E180/I180-1 -> 0.092873933 | G180: 0.0009162754 | H180: =G180/I180-1 -> 0.1013868 | I180: 0.0008319288 | J180: =I180/M180-1 -> 0.19896857 | K180: 0.00081724269 | L180: =K180/M180-1 -> 0.17780308 | M180: 0.0006938704 | N180: =M180/Q180-1 -> -0.37596863 | O180: 0.000705504 | P180: =O180/M180-1 -> 0.016766245 | Q180: 0.0011119159 | R180: =Q180/S180-1 -> 0.011429932 | S180: 0.0010993504 | T180: =S180/U180-1 -> 0.70962443 | U180: 0.0006430362 | V180: =U180/W180-1 -> -0.057992186 | W180: 0.000682623 | X180: =W180/Y180-1 -> 0.0022168125 | Y180: 0.0006811131 | Z180: =Y180/AA180-1 -> -0.020588809 | AA180: 0.0006954312 | AB180: =AA180/AC180-1 -> -0.13088656 | AC180: 0.0008001616 | AD180: =AC180/AE180-1 -> -0.070988931 | AE180: 0.0008613047 | AF180: =AE180/AG180-1 -> 0.034470636 | AG180: 0.0008326043 | AH180: =AG180/AI180-1 -> 0.11973761 | AI180: 0.0007435709 | AJ180: =AI180/AM180-1 -> -0.17126765 | AM180: 0.0008972389 | AN180: 577 | AR180: 0.0011119955 | AS180: =AR180/Q180-1 -> 7.1588148e-05 | AU180: =EXACT(AV180,B180) -> TRUE | AV180: Paimio | AW180: 0.0010994089 | AX180: =AW180/S180-1 -> 5.3222485e-05 | BD180: =I180/K180-1 -> 0.017970316
A181: 578 | B181: Paltamo | C181: 0.00042342682 | D181: =C181/E181-1 -> 0.16441564 | E181: 0.0003636389 | F181: =E181/I181-1 -> 0.33502788 | G181: 0.0003465073 | H181: =G181/I181-1 -> 0.27213261 | I181: 0.000272383 | J181: =I181/M181-1 -> 0.13662273 | K181: 0.00027634334 | L181: =K181/M181-1 -> 0.15314877 | M181: 0.0002396424 | N181: =M181/Q181-1 -> -0.066824712 | O181: 0.00024278136 | P181: =O181/M181-1 -> 0.013098502 | Q181: 0.0002568032 | R181: =Q181/S181-1 -> -0.21282008 | S181: 0.0003262319 | T181: =S181/U181-1 -> -0.10835733 | U181: 0.0003658774 | V181: =U181/W181-1 -> 0.023257258 | W181: 0.0003575615 | X181: =W181/Y181-1 -> 0.086899295 | Y181: 0.0003289739 | Z181: =Y181/AA181-1 -> 0.031177896 | AA181: 0.0003190273 | AB181: =AA181/AC181-1 -> -0.089883566 | AC181: 0.0003505346 | AD181: =AC181/AE181-1 -> -0.12993299 | AE181: 0.0004028823 | AF181: =AE181/AG181-1 -> -0.050351272 | AG181: 0.0004242435 | AH181: =AG181/AI181-1 -> 0.11499544 | AI181: 0.000380489 | AJ181: =AI181/AM181-1 -> 0.056042067 | AM181: 0.0003602972 | AN181: 578 | AR181: 0.000256821 | AS181: =AR181/Q181-1 -> 6.9313778e-05 | AU181: =EXACT(AV181,B181) -> TRUE | AV181: Paltamo | AW181: 0.00032624265 | AX181: =AW181/S181-1 -> 3.2957418e-05 | BD181: =I181/K181-1 -> -0.014331229
A182: 580 | B182: Parikkala | C182: 0.00075208288 | D182: =C182/E182-1 -> 0.061151544 | E182: 0.0007087422 | F182: =E182/I182-1 -> 0.117003 | G182: 0.0006956517 | H182: =G182/I182-1 -> 0.096371905 | I182: 0.0006345034 | J182: =I182/M182-1 -> 0.12045903 | K182: 0.00063736487 | L182: =K182/M182-1 -> 0.12551205 | M182: 0.0005662888 | N182: =M182/Q182-1 -> 0.11996855 | O182: 0.00056301113 | P182: =O182/M182-1 -> -0.0057879747 | Q182: 0.0005056292 | R182: =Q182/S182-1 -> -0.14331963 | S182: 0.0005902192 | T182: =S182/U182-1 -> -0.20292868 | U182: 0.0007404848 | V182: =U182/W182-1 -> -0.065429129 | W182: 0.000792326 | X182: =W182/Y182-1 -> 0.03779028 | Y182: 0.0007634741 | Z182: =Y182/AA182-1 -> 0.006233588 | AA182: 0.0007587444 | AB182: =AA182/AC182-1 -> -0.18856169 | AC182: 0.0009350611 | AD182: =AC182/AE182-1 -> -0.021959497 | AE182: 0.0009560556 | AF182: =AE182/AG182-1 -> 0.24311334 | AG182: 0.0007690816 | AH182: =AG182/AI182-1 -> 0.012373871 | AI182: 0.0007596814 | AJ182: =AI182/AM182-1 -> -0.0035597019 | AM182: 0.0007623953 | AN182: 580 | AR182: 0.0005056641 | AS182: =AR182/Q182-1 -> 6.9022912e-05 | AU182: =EXACT(AV182,B182) -> TRUE | AV182: Parikkala | AW182: 0.00059023781 | AX182: =AW182/S182-1 -> 3.1533508e-05 | BD182: =I182/K182-1 -> -0.0044895312
A183: 581 | B183: Parkano | C183: 0.0012224634 | D183: =C183/E183-1 -> 0.026464049 | E183: 0.0011909461 | F183: =E183/I183-1 -> 0.050933304 | G183: 0.001188147 | H183: =G183/I183-1 -> 0.048463268 | I183: 0.0011332271 | J183: =I183/M183-1 -> 0.0011996085 | K183: 0.0011281207 | L183: =K183/M183-1 -> -0.0033118536 | M183: 0.0011318693 | N183: =M183/Q183-1 -> -0.0064940833 | O183: 0.0011407546 | P183: =O183/M183-1 -> 0.0078501016 | Q183: 0.0011392678 | R183: =Q183/S183-1 -> -0.0034953435 | S183: 0.0011432639 | T183: =S183/U183-1 -> -0.018408449 | U183: 0.0011647043 | V183: =U183/W183-1 -> 0.01035368 | W183: 0.0011527689 | X183: =W183/Y183-1 -> 0.039209772 | Y183: 0.0011092745 | Z183: =Y183/AA183-1 -> 0.021560176 | AA183: 0.0010858631 | AB183: =AA183/AC183-1 -> -0.06126989 | AC183: 0.0011567362 | AD183: =AC183/AE183-1 -> -0.051021406 | AE183: 0.0012189276 | AF183: =AE183/AG183-1 -> 0.075734532 | AG183: 0.0011331119 | AH183: =AG183/AI183-1 -> 0.020497087 | AI183: 0.0011103529 | AJ183: =AI183/AM183-1 -> -0.11668165 | AM183: 0.0012570246 | AN183: 581 | AR183: 0.0011393463 | AS183: =AR183/Q183-1 -> 6.8903905e-05 | AU183: =EXACT(AV183,B183) -> TRUE | AV183: Parkano | AW183: 0.0011433071 | AX183: =AW183/S183-1 -> 3.7792873e-05 | BD183: =I183/K183-1 -> 0.004526453
... A299: 992 | B299: Äänekoski | C299: 0.001964922 | D299: =C299/E299-1 -> -0.037659419 | E299: 0.0020418156 | F299: =E299/I299-1 -> -0.20845981 | G299: 0.0019521163 | H299: =G299/I299-1 -> -0.24323307 | I299: 0.0025795476 | J299: =I299/M299-1 -> -0.33670253 | K299: 0.0024793451 | L299: =K299/M299-1 -> -0.36246832 | M299: 0.0038889755 | N299: =M299/Q299-1 -> 0.11336944 | O299: 0.00395428 | P299: =O299/M299-1 -> 0.016792211 | Q299: 0.0034929785 | R299: =Q299/S299-1 -> 0.26405231 | S299: 0.002763318 | T299: =S299/U299-1 -> -0.33447073 | U299: 0.0041520608 | V299: =U299/W299-1 -> -0.051055593 | W299: 0.0043754521 | X299: =W299/Y299-1 -> 0.066231528 | Y299: 0.0041036604 | Z299: =Y299/AA299-1 -> -0.17766825 | AA299: 0.0049902736 | AB299: =AA299/AC299-1 -> 0.013459116 | AC299: 0.0049240009 | AD299: =AC299/AE299-1 -> 0.080836455 | AE299: 0.0045557317 | AF299: =AE299/AG299-1 -> 0.080250786 | AG299: 0.0042172908 | AH299: =AG299/AI299-1 -> -0.10098971 | AI299: 0.0046910373 | AJ299: =AI299/AM299-1 -> -0.18895118 | AM299: 0.0057839148 | AN299: 992 | AR299: 0.0035061149 | AS299: =AR299/Q299-1 -> 0.0037608018 | AU299: =EXACT(AV299,B299) -> TRUE | AV299: Äänekoski | AW299: 0.0027634124 | AX299: =AW299/S299-1 -> 3.4160366e-05 | BD299: =I299/K299-1 -> 0.040414915

Sheet SVE
A1: SKATTEFÖRVALTNINGEN | C1: SAMFUNDSSKATTENS FÖRDELNINGSANDELAR
A3: KOMMUNER | C3: =FIN!C3 -> 46290
A7: Kommun- nummer | B7: Kommun | C7: Andel 2027, preliminära | D7: Ändring | E7: Andel 2026 | F7: Ändring | G7: Andel 2026, preliminära | H7: Ändring | I7: Andel 2025 | J7: Ändring | K7: Andel 2025, preliminära | L7: Ändring | M7: Andel 2024 | N7: Ändring | O7: Andel 2024, preliminära | P7: Ändring | Q7: Andel 2023 | R7: Ändring | S7: Andel 2022 | T7: Ändring | U7: Andel 2021 | V7: Ändring | W7: Andel 2020 | X7: Ändring | Y7: Andel 2019 | Z7: Ändring | AA7: Andel 2018 | AB7: Ändring | AC7: Andel 2017 | AD7: Ändring | AE7: Andel 2016 | AF7: Ändring | AG7: Andel 2015 | AH7: Ändring | AI7: Andel 2014 | AJ7: Ändring | AM7: Jako-osuus 2013 | AN7: Kuntatunnus
A8: 005 | B8: Alajärvi stad | C8: =FIN!C8 -> 0.0011963895 | D8: =FIN!D8 -> 0.014935988 | E8: =FIN!E8 -> 0.0011787832 | F8: =FIN!F8 -> -0.077267141 | G8: =FIN!G8 -> 0.0011487354 | H8: =FIN!H8 -> -0.10078808 | I8: =FIN!I8 -> 0.0012774913 | J8: =FIN!J8 -> -0.037485795 | ... U8: =FIN!U8 -> 0.0010779002 | V8: =U8/W8-1 -> -0.014330745 | W8: =FIN!W8 -> 0.0010935719 | X8: =W8/Y8-1 -> 0.017008263 | Y8: =FIN!Y8 -> 0.0010752832 | Z8: =Y8/AA8-1 -> -0.058389354 | AA8: =FIN!AA8 -> 0.0011419616 | AB8: =AA8/AC8-1 -> -0.12425895 | AC8: =FIN!AC8 -> 0.0013039946 | AD8: =FIN!AD8 -> -0.020255255 | AE8: =FIN!AE8 -> 0.0013309534 | AF8: =FIN!AF8 -> 0.060176988 | AG8: =FIN!AG8 -> 0.0012554068 | AH8: =FIN!AH8 -> 0.046512363 | AI8: =FIN!AI8 -> 0.0011996101 | AJ8: =FIN!AJ8 -> -0.052740495 | AM8: 0.0012664007 | AN8: 005
A9: 009 | B9: Alavieska kommun | C9: =FIN!C9 -> 0.00014665385 | D9: =FIN!D9 -> -0.10033282 | E9: =FIN!E9 -> 0.000163009 | F9: =FIN!F9 -> 0.096702271 | G9: =FIN!G9 -> 0.00015827254 | H9: =FIN!H9 -> 0.064836011 | I9: =FIN!I9 -> 0.0001486356 | J9: =FIN!J9 -> 0.13564498 | ... U9: =FIN!U9 -> 0.0001667773 | V9: =U9/W9-1 -> 0.066258987 | W9: =FIN!W9 -> 0.0001564135 | X9: =W9/Y9-1 -> 0.13239805 | Y9: =FIN!Y9 -> 0.0001381259 | Z9: =Y9/AA9-1 -> -0.0019242414 | AA9: =FIN!AA9 -> 0.0001383922 | AB9: =AA9/AC9-1 -> -0.062014248 | AC9: =FIN!AC9 -> 0.0001475419 | AD9: =FIN!AD9 -> -0.15813736 | AE9: =FIN!AE9 -> 0.0001752565 | AF9: =FIN!AF9 -> -0.047158081 | AG9: =FIN!AG9 -> 0.0001839303 | AH9: =FIN!AH9 -> 0.22070557 | AI9: =FIN!AI9 -> 0.0001506754 | AJ9: =FIN!AJ9 -> 0.14919471 | AM9: 0.0001311139 | AN9: 009
A10: 010 | B10: Alavo stad | C10: =FIN!C10 -> 0.0014371081 | D10: =FIN!D10 -> 0.0092381517 | E10: =FIN!E10 -> 0.0014239534 | F10: =FIN!F10 -> 0.13481285 | G10: =FIN!G10 -> 0.0014153024 | H10: =FIN!H10 -> 0.12791844 | I10: =FIN!I10 -> 0.0012547914 | J10: =FIN!J10 -> 0.11961092 | ... U10: =FIN!U10 -> 0.0013693327 | V10: =U10/W10-1 -> -0.050754349 | W10: =FIN!W10 -> 0.0014425483 | X10: =W10/Y10-1 -> 0.053596196 | Y10: =FIN!Y10 -> 0.0013691662 | Z10: =Y10/AA10-1 -> 0.070972114 | AA10: =FIN!AA10 -> 0.0012784331 | AB10: =AA10/AC10-1 -> -0.11853999 | AC10: =FIN!AC10 -> 0.0014503586 | AD10: =FIN!AD10 -> -0.0045544444 | AE10: =FIN!AE10 -> 0.0014569944 | AF10: =FIN!AF10 -> 0.061716421 | AG10: =FIN!AG10 -> 0.0013723009 | AH10: =FIN!AH10 -> -0.018107087 | AI10: =FIN!AI10 -> 0.0013976075 | AJ10: =FIN!AJ10 -> 0.0020690148 | AM10: 0.0013947218 | AN10: 010
A11: 016 | B11: Asikkala kommun | C11: =FIN!C11 -> 0.00096734564 | D11: =FIN!D11 -> -0.005180832 | E11: =FIN!E11 -> 0.0009723834 | F11: =FIN!F11 -> 0.10892121 | G11: =FIN!G11 -> 0.00097788252 | H11: =FIN!H11 -> 0.11519249 | I11: =FIN!I11 -> 0.0008768733 | J11: =FIN!J11 -> 0.1430759 | ... U11: =FIN!U11 -> 0.0008652306 | V11: =U11/W11-1 -> -0.026413836 | W11: =FIN!W11 -> 0.0008887047 | X11: =W11/Y11-1 -> 0.090334208 | Y11: =FIN!Y11 -> 0.0008150755 | Z11: =Y11/AA11-1 -> 0.059408463 | AA11: =FIN!AA11 -> 0.0007693685 | AB11: =AA11/AC11-1 -> -0.093741199 | AC11: =FIN!AC11 -> 0.0008489501 | AD11: =FIN!AD11 -> -0.090097341 | AE11: =FIN!AE11 -> 0.000933012 | AF11: =FIN!AF11 -> 0.0056298379 | AG11: =FIN!AG11 -> 0.0009277887 | AH11: =FIN!AH11 -> -0.048103766 | AI11: =FIN!AI11 -> 0.0009746742 | AJ11: =FIN!AJ11 -> -0.12929876 | AM11: 0.0011194129 | AN11: 016
A12: 018 | B12: Askola kommun | C12: =FIN!C12 -> 0.00060158645 | D12: =FIN!D12 -> 0.07766636 | E12: =FIN!E12 -> 0.0005582307 | F12: =FIN!F12 -> 0.26348393 | G12: =FIN!G12 -> 0.0005596434 | H12: =FIN!H12 -> 0.2666814 | I12: =FIN!I12 -> 0.0004418186 | J12: =FIN!J12 -> 0.020287109 | ... U12: =FIN!U12 -> 0.0005060409 | V12: =U12/W12-1 -> -0.015320453 | W12: =FIN!W12 -> 0.0005139143 | X12: =W12/Y12-1 -> 0.021956845 | Y12: =FIN!Y12 -> 0.0005028728 | Z12: =Y12/AA12-1 -> -0.0080510216 | AA12: =FIN!AA12 -> 0.0005069543 | AB12: =AA12/AC12-1 -> -0.090027544 | AC12: =FIN!AC12 -> 0.0005571095 | AD12: =FIN!AD12 -> -0.014342305 | AE12: =FIN!AE12 -> 0.000565216 | AF12: =FIN!AF12 -> -0.056534863 | AG12: =FIN!AG12 -> 0.0005990852 | AH12: =FIN!AH12 -> -0.073435922 | AI12: =FIN!AI12 -> 0.0006465664 | AJ12: =FIN!AJ12 -> 0.090728127 | AM12: 0.0005927842 | AN12: 018
A13: 019 | B13: Aura kommun | C13: =FIN!C13 -> 0.00043560868 | D13: =FIN!D13 -> -0.059755338 | E13: =FIN!E13 -> 0.0004632929 | F13: =FIN!F13 -> 0.26129383 | G13: =FIN!G13 -> 0.00047790888 | H13: =FIN!H13 -> 0.30108518 | I13: =FIN!I13 -> 0.0003673156 | J13: =FIN!J13 -> 0.31673073 | ... U13: =FIN!U13 -> 0.0002573274 | V13: =U13/W13-1 -> -0.055664365 | W13: =FIN!W13 -> 0.0002724957 | X13: =W13/Y13-1 -> -0.13857442 | Y13: =FIN!Y13 -> 0.0003163311 | Z13: =Y13/AA13-1 -> -0.011483847 | AA13: =FIN!AA13 -> 0.000320006 | AB13: =AA13/AC13-1 -> 0.10721402 | AC13: =FIN!AC13 -> 0.0002890191 | AD13: =FIN!AD13 -> 0.12901129 | AE13: =FIN!AE13 -> 0.0002559931 | AF13: =FIN!AF13 -> -0.16825326 | AG13: =FIN!AG13 -> 0.0003077777 | AH13: =FIN!AH13 -> -0.040066558 | AI13: =FIN!AI13 -> 0.000320624 | AJ13: =FIN!AJ13 -> 0.40744688 | AM13: 0.0002278054 | AN13: 019
A14: 020 | B14: Akaa stad | C14: =FIN!C14 -> 0.00092774897 | D14: =FIN!D14 -> 0.019793943 | E14: =FIN!E14 -> 0.0009097416 | F14: =FIN!F14 -> 0.038886993 | G14: =FIN!G14 -> 0.00090269058 | H14: =FIN!H14 -> 0.030835027 | I14: =FIN!I14 -> 0.0008756887 | J14: =FIN!J14 -> -0.081757365 | ... U14: =FIN!U14 -> 0.0008454066 | V14: =U14/W14-1 -> -0.068825732 | W14: =FIN!W14 -> 0.000907893 | X14: =W14/Y14-1 -> 0.084734953 | Y14: =FIN!Y14 -> 0.0008369722 | Z14: =Y14/AA14-1 -> -0.018833513 | AA14: =FIN!AA14 -> 0.0008530379 | AB14: =AA14/AC14-1 -> -0.15709017 | AC14: =FIN!AC14 -> 0.0010120156 | AD14: =FIN!AD14 -> -0.025950886 | AE14: =FIN!AE14 -> 0.001038978 | AF14: =FIN!AF14 -> -0.0066395933 | AG14: =FIN!AG14 -> 0.0010459225 | AH14: =FIN!AH14 -> -0.10135569 | AI14: =FIN!AI14 -> 0.0011638893 | AJ14: =FIN!AJ14 -> 0.037077441 | AM14: 0.0011222781 | AN14: 020
A15: 046 | B15: Enonkoski kommun | C15: =FIN!C15 -> 0.00032150221 | D15: =FIN!D15 -> 0.025397819 | E15: =FIN!E15 -> 0.000313539 | F15: =FIN!F15 -> 0.12821474 | G15: =FIN!G15 -> 0.00031424966 | H15: =FIN!H15 -> 0.13077191 | I15: =FIN!I15 -> 0.0002779072 | J15: =FIN!J15 -> 0.032483182 | ... U15: =FIN!U15 -> 0.0003403206 | V15: =U15/W15-1 -> -0.025850747 | W15: =FIN!W15 -> 0.0003493516 | X15: =W15/Y15-1 -> 0.10645832 | Y15: =FIN!Y15 -> 0.0003157386 | Z15: =Y15/AA15-1 -> 0.044065969 | AA15: =FIN!AA15 -> 0.0003024125 | AB15: =AA15/AC15-1 -> -0.03226049 | AC15: =FIN!AC15 -> 0.0003124937 | AD15: =FIN!AD15 -> -0.12830446 | AE15: =FIN!AE15 -> 0.0003584895 | AF15: =FIN!AF15 -> -0.049317849 | AG15: =FIN!AG15 -> 0.0003770866 | AH15: =FIN!AH15 -> 0.10842589 | AI15: =FIN!AI15 -> 0.0003402001 | AJ15: =FIN!AJ15 -> 0.020679709 | AM15: 0.0003333074 | AN15: 046
A16: 047 | B16: Enontekis kommun | C16: =FIN!C16 -> 0.00036637182 | D16: =FIN!D16 -> -0.061081268 | E16: =FIN!E16 -> 0.0003902061 | F16: =FIN!F16 -> 0.26811916 | G16: =FIN!G16 -> 0.0003854697 | H16: =FIN!H16 -> 0.25272649 | I16: =FIN!I16 -> 0.0003077046 | J16: =FIN!J16 -> 0.22069251 | ... U16: =FIN!U16 -> 0.000263872 | V16: =U16/W16-1 -> 0.11711239 | W16: =FIN!W16 -> 0.000236209 | X16: =W16/Y16-1 -> 0.14994418 | Y16: =FIN!Y16 -> 0.0002054091 | Z16: =Y16/AA16-1 -> -0.0017776706 | AA16: =FIN!AA16 -> 0.0002057749 | AB16: =AA16/AC16-1 -> -0.075087929 | AC16: =FIN!AC16 -> 0.0002224805 | AD16: =FIN!AD16 -> 0.031575467 | AE16: =FIN!AE16 -> 0.0002156706 | AF16: =FIN!AF16 -> 0.055272089 | AG16: =FIN!AG16 -> 0.0002043744 | AH16: =FIN!AH16 -> -0.077362298 | AI16: =FIN!AI16 -> 0.000221511 | AJ16: =FIN!AJ16 -> 0.016520973 | AM16: 0.0002179109 | AN16: 047
A17: 049 | B17: Esbo stad | C17: =FIN!C17 -> 0.075083227 | D17: =FIN!D17 -> -0.048868802 | E17: =FIN!E17 -> 0.078940978 | F17: =FIN!F17 -> -0.057946576 | G17: =FIN!G17 -> 0.078400323 | H17: =FIN!H17 -> -0.064398559 | I17: =FIN!I17 -> 0.08379671 | J17: =FIN!J17 -> 0.029813701 | ... U17: =FIN!U17 -> 0.07173083 | V17: =U17/W17-1 -> 0.033586734 | W17: =FIN!W17 -> 0.069399913 | X17: =W17/Y17-1 -> 0.025123568 | Y17: =FIN!Y17 -> 0.067699071 | Z17: =Y17/AA17-1 -> 0.0041533256 | AA17: =FIN!AA17 -> 0.067419058 | AB17: =AA17/AC17-1 -> -0.066601563 | AC17: =FIN!AC17 -> 0.072229667 | AD17: =FIN!AD17 -> -0.07634549 | AE17: =FIN!AE17 -> 0.078199874 | AF17: =FIN!AF17 -> -0.061296831 | AG17: =FIN!AG17 -> 0.083306286 | AH17: =FIN!AH17 -> 0.0073981438 | AI17: =FIN!AI17 -> 0.0826945 | AJ17: =FIN!AJ17 -> -0.040672639 | AM17: 0.086200502 | AN17: 049
A18: 050 | B18: Eura kommun | C18: =FIN!C18 -> 0.0013228425 | D18: =FIN!D18 -> 0.0015525459 | E18: =FIN!E18 -> 0.0013207919 | F18: =FIN!F18 -> 0.046767195 | G18: =FIN!G18 -> 0.0014100887 | H18: =FIN!H18 -> 0.11753757 | I18: =FIN!I18 -> 0.0012617819 | J18: =FIN!J18 -> 0.04010787 | ... U18: =FIN!U18 -> 0.0012792404 | V18: =U18/W18-1 -> 0.0010941883 | W18: =FIN!W18 -> 0.0012778422 | X18: =W18/Y18-1 -> 0.17460974 | Y18: =FIN!Y18 -> 0.0010878866 | Z18: =Y18/AA18-1 -> 0.034280857 | AA18: =FIN!AA18 -> 0.001051829 | AB18: =AA18/AC18-1 -> -0.11275002 | AC18: =FIN!AC18 -> 0.0011854934 | AD18: =FIN!AD18 -> -0.1487294 | AE18: =FIN!AE18 -> 0.0013926164 | AF18: =FIN!AF18 -> -0.10838581 | AG18: =FIN!AG18 -> 0.0015619047 | AH18: =FIN!AH18 -> 0.0097379066 | AI18: =FIN!AI18 -> 0.0015468417 | AJ18: =FIN!AJ18 -> -0.029678565 | AM18: 0.0015941539 | AN18: 050
A19: 051 | B19: Euraåminne kommun | C19: =FIN!C19 -> 0.00098300755 | D19: =FIN!D19 -> -0.019700134 | E19: =FIN!E19 -> 0.0010027621 | F19: =FIN!F19 -> -0.19838371 | G19: =FIN!G19 -> 0.0010375463 | H19: =FIN!H19 -> -0.17057694 | I19: =FIN!I19 -> 0.0012509253 | J19: =FIN!J19 -> -0.2649779 | ... U19: =FIN!U19 -> 0.0011978633 | V19: =U19/W19-1 -> -0.1215889 | W19: =FIN!W19 -> 0.0013636705 | X19: =W19/Y19-1 -> 0.0049471708 | Y19: =FIN!Y19 -> 0.0013569574 | Z19: =Y19/AA19-1 -> 0.092184119 | AA19: =FIN!AA19 -> 0.0012424255 | AB19: =AA19/AC19-1 -> 0.16976849 | AC19: =FIN!AC19 -> 0.0010621123 | AD19: =FIN!AD19 -> -0.11843364 | AE19: =FIN!AE19 -> 0.0012048013 | AF19: =FIN!AF19 -> -0.10005498 | AG19: =FIN!AG19 -> 0.0013387499 | AH19: =FIN!AH19 -> -0.58333172 | AI19: =FIN!AI19 -> 0.0032129873 | AJ19: =FIN!AJ19 -> -0.076800131 | AM19: 0.0034802727 | AN19: 051
... A299: 992 | B299: Äänekoski stad | C299: =FIN!C299 -> 0.001964922 | D299: =FIN!D299 -> -0.037659419 | E299: =FIN!E299 -> 0.0020418156 | F299: =FIN!F299 -> -0.20845981 | G299: =FIN!G299 -> 0.0019521163 | H299: =FIN!H299 -> -0.24323307 | I299: =FIN!I299 -> 0.0025795476 | J299: =FIN!J299 -> -0.33670253 | ... U299: =FIN!U299 -> 0.0041520608 | V299: =U299/W299-1 -> -0.051055593 | W299: =FIN!W299 -> 0.0043754521 | X299: =W299/Y299-1 -> 0.066231528 | Y299: =FIN!Y299 -> 0.0041036604 | Z299: =Y299/AA299-1 -> -0.17766825 | AA299: =FIN!AA299 -> 0.0049902736 | AB299: =AA299/AC299-1 -> 0.013459116 | AC299: =FIN!AC299 -> 0.0049240009 | AD299: =FIN!AD299 -> 0.080836455 | AE299: =FIN!AE299 -> 0.0045557317 | AF299: =FIN!AF299 -> 0.080250786 | AG299: =FIN!AG299 -> 0.0042172908 | AH299: =FIN!AH299 -> -0.10098971 | AI299: =FIN!AI299 -> 0.0046910373 | AJ299: =FIN!AJ299 -> -0.18895118 | AM299: 0.0057839148 | AN299: 992
