Workbook

Sheet 2024 3.11. su
A1: VEROHALLINTO | F1: TULOVEROT | H1: N223
H2: 45964
G3: VEROVUOSI | H3: 2024
F5: € | H5: Muutos
A6: Ansio- ja pääomatuloverot | G6: 3.808934e+10 | H6: 0.044089535
B7: Valtion verot | G7: 2.5385625e+10 | H7: 0.059512202
B8: - | C8: ansiotuloista | F8: 2.1242859e+10 | H8: 0.05356342
B9: - | C9: pääomatuloista | F9: 3.5748462e+09 | H9: 0.10306939
B10: - | C10: yleisradioverot | F10: 5.6791979e+08 | H10: 0.021356322
B11: Kunnallisverot | G11: 9.5982173e+09 | H11: 0.059806056
B12: Sairausvakuutusmaksu | G12: 2.0463894e+09 | H12: -0.15988937
B13: Kirkollisverot | G13: 1.0591083e+09 | H13: 0.029511227
B14: - | C14: evankelisluterilaiset seurakunnat | F14: 1.0398957e+09 | H14: 0.029314565
B15: - | C15: ortodoksiset seurakunnat | F15: 19212579 | H15: 0.040269019
A16: Yhteisöverot | G16: 6.9708358e+09 | H16: -0.048154903
B17: Valtio | G17: 5.3117466e+09 | H17: -0.045494323
B18: Kunnat | G18: 1.6590892e+09 | H18: -0.056574148
A19: Yhteisöjen yleisradioverot | G19: 32007525 | H19: 0.00033081476
A20: Henkilöasiakkaat
B21: Veronpalautukset | G21: 2.9765582e+09 | H21: 0.054273528
B22: Jäännösverot | G22: 1.2484646e+09 | H22: 0.091169423
A23: Yhteisöt
B24: Veronpalautukset | G24: 7.5123592e+08 | H24: -0.045596323
B25: Jäännösverot | G25: 6.9292797e+08 | H25: -0.027875018

Sheet 2024 3.11 sv
A1: SKATTEFÖRVALTNINGEN | F1: INKOMSTSKATTER | H1: N223
H2: 45964
G3: SKATTEÅR | H3: ='2024 3.11. su'!H3 -> 2024
F5: € | H5: Ändring
A6: Skatter av förvärvs- och kapitalinkomster | G6: ='2024 3.11. su'!G6 -> 3.808934e+10 | H6: ='2024 3.11. su'!H6 -> 0.044089535
B7: Statsskatter | G7: ='2024 3.11. su'!G7 -> 2.5385625e+10 | H7: ='2024 3.11. su'!H7 -> 0.059512202
B8: - | C8: av förvärvsinkomster | F8: ='2024 3.11. su'!F8 -> 2.1242859e+10 | H8: ='2024 3.11. su'!H8 -> 0.05356342
B9: - | C9: av kapitalinkomster | F9: ='2024 3.11. su'!F9 -> 3.5748462e+09 | H9: ='2024 3.11. su'!H9 -> 0.10306939
B10: - | C10: rundradioskatter | F10: ='2024 3.11. su'!F10 -> 5.6791979e+08 | H10: ='2024 3.11. su'!H10 -> 0.021356322
B11: Kommunalskatter | G11: ='2024 3.11. su'!G11 -> 9.5982173e+09 | H11: ='2024 3.11. su'!H11 -> 0.059806056
B12: Sjukförsäkringspremie | G12: ='2024 3.11. su'!G12 -> 2.0463894e+09 | H12: ='2024 3.11. su'!H12 -> -0.15988937
B13: Kyrkoskatter | G13: ='2024 3.11. su'!G13 -> 1.0591083e+09 | H13: ='2024 3.11. su'!H13 -> 0.029511227
B14: - | C14: Ev luth. kyrkoskatter | F14: ='2024 3.11. su'!F14 -> 1.0398957e+09 | H14: ='2024 3.11. su'!H14 -> 0.029314565
B15: - | C15: Ortodoxa kyrkoskatter | F15: ='2024 3.11. su'!F15 -> 19212579 | H15: ='2024 3.11. su'!H15 -> 0.040269019
A16: Samfundskatter | G16: ='2024 3.11. su'!G16 -> 6.9708358e+09 | H16: ='2024 3.11. su'!H16 -> -0.048154903
B17: Staten | G17: ='2024 3.11. su'!G17 -> 5.3117466e+09 | H17: ='2024 3.11. su'!H17 -> -0.045494323
B18: Kommuner | G18: ='2024 3.11. su'!G18 -> 1.6590892e+09 | H18: ='2024 3.11. su'!H18 -> -0.056574148
A19: Rundradioskatter för samfund | G19: ='2024 3.11. su'!G19 -> 32007525 | H19: ='2024 3.11. su'!H19 -> 0.00033081476
A20: Personkunder
B21: Skatteåterbäringar | G21: ='2024 3.11. su'!G21 -> 2.9765582e+09 | H21: ='2024 3.11. su'!H21 -> 0.054273528
B22: Kvarskatter | G22: ='2024 3.11. su'!G22 -> 1.2484646e+09 | H22: ='2024 3.11. su'!H22 -> 0.091169423
A23: Samfund
B24: Skatteåterbäringar | G24: ='2024 3.11. su'!G24 -> 7.5123592e+08 | H24: ='2024 3.11. su'!H24 -> -0.045596323
B25: Kvarskatter | G25: ='2024 3.11. su'!G25 -> 6.9292797e+08 | H25: ='2024 3.11. su'!H25 -> -0.027875018

Sheet 2024 13.10. su
A1: VEROHALLINTO | F1: TULOVEROT | H1: N223
H2: 45943
G3: VEROVUOSI | H3: 2024
F5: € | H5: Muutos
A6: Ansio- ja pääomatuloverot | G6: 3.8073521e+10 | H6: 0.043655908
B7: Valtion verot | G7: 2.5373453e+10 | H7: 0.059004162
B8: - | C8: ansiotuloista | F8: 2.1227665e+10 | H8: 0.052809825
B9: - | C9: pääomatuloista | F9: 3.5779328e+09 | H9: 0.10402179
B10: - | C10: yleisradioverot | F10: 5.6785537e+08 | H10: 0.021240479
B11: Kunnallisverot | G11: 9.5952318e+09 | H11: 0.05947641
B12: Sairausvakuutusmaksu | G12: 2.0459231e+09 | H12: -0.1600808
B13: Kirkollisverot | G13: 1.0589135e+09 | H13: 0.029321864
B14: - | C14: evankelisluterilaiset seurakunnat | F14: 1.0397055e+09 | H14: 0.029126235
B15: - | C15: ortodoksiset seurakunnat | F15: 19208038 | H15: 0.04002316
A16: Yhteisöverot | G16: 7.0344689e+09 | H16: -0.03946601
B17: Valtio | G17: 5.3603745e+09 | H17: -0.036756045
B18: Kunnat | G18: 1.6740944e+09 | H18: -0.048041535
A19: Yhteisöjen yleisradioverot | G19: 29946217 | H19: -0.064091241
A20: Henkilöasiakkaat
B21: Veronpalautukset | G21: 2980000000 | H21: 0.055492586
B22: Jäännösverot | G22: 1240000000 | H22: 0.083771254
A23: Yhteisöt
B24: Veronpalautukset | G24: 5.9546302e+08 | H24: -0.24349717
B25: Jäännösverot | G25: 6.0437691e+08 | H25: -0.15210539

Sheet 2024 13.10 sv
A1: SKATTEFÖRVALTNINGEN | F1: INKOMSTSKATTER | H1: N223
H2: ='2024 13.10. su'!H2 -> 45943
G3: SKATTEÅR | H3: ='2024 13.10. su'!H3 -> 2024
F5: € | H5: Ändring
A6: Skatter av förvärvs- och kapitalinkomster | G6: ='2024 13.10. su'!G6 -> 3.8073521e+10 | H6: ='2024 13.10. su'!H6 -> 0.043655908
B7: Statsskatter | G7: ='2024 13.10. su'!G7 -> 2.5373453e+10 | H7: ='2024 13.10. su'!H7 -> 0.059004162
B8: - | C8: av förvärvsinkomster | F8: ='2024 13.10. su'!F8 -> 2.1227665e+10 | H8: ='2024 13.10. su'!H8 -> 0.052809825
B9: - | C9: av kapitalinkomster | F9: ='2024 13.10. su'!F9 -> 3.5779328e+09 | H9: ='2024 13.10. su'!H9 -> 0.10402179
B10: - | C10: rundradioskatter | F10: ='2024 13.10. su'!F10 -> 5.6785537e+08 | H10: ='2024 13.10. su'!H10 -> 0.021240479
B11: Kommunalskatter | G11: ='2024 13.10. su'!G11 -> 9.5952318e+09 | H11: ='2024 13.10. su'!H11 -> 0.05947641
B12: Sjukförsäkringspremie | G12: ='2024 13.10. su'!G12 -> 2.0459231e+09 | H12: ='2024 13.10. su'!H12 -> -0.1600808
B13: Kyrkoskatter | G13: ='2024 13.10. su'!G13 -> 1.0589135e+09 | H13: ='2024 13.10. su'!H13 -> 0.029321864
B14: - | C14: Ev luth. kyrkoskatter | F14: ='2024 13.10. su'!F14 -> 1.0397055e+09 | H14: ='2024 13.10. su'!H14 -> 0.029126235
B15: - | C15: Ortodoxa kyrkoskatter | F15: ='2024 13.10. su'!F15 -> 19208038 | H15: ='2024 13.10. su'!H15 -> 0.04002316
A16: Samfundskatter | G16: ='2024 13.10. su'!G16 -> 7.0344689e+09 | H16: ='2024 13.10. su'!H16 -> -0.03946601
B17: Staten | G17: ='2024 13.10. su'!G17 -> 5.3603745e+09 | H17: ='2024 13.10. su'!H17 -> -0.036756045
B18: Kommuner | G18: ='2024 13.10. su'!G18 -> 1.6740944e+09 | H18: ='2024 13.10. su'!H18 -> -0.048041535
A19: Rundradioskatter för samfund | G19: ='2024 13.10. su'!G19 -> 29946217 | H19: ='2024 13.10. su'!H19 -> -0.064091241
A20: Personkunder
B21: Skatteåterbäringar | G21: ='2024 13.10. su'!G21 -> 2980000000 | H21: ='2024 13.10. su'!H21 -> 0.055492586
B22: Kvarskatter | G22: ='2024 13.10. su'!G22 -> 1240000000 | H22: ='2024 13.10. su'!H22 -> 0.083771254
A23: Samfund
B24: Skatteåterbäringar | G24: ='2024 13.10. su'!G24 -> 5.9546302e+08 | H24: ='2024 13.10. su'!H24 -> -0.24349717
B25: Kvarskatter | G25: ='2024 13.10. su'!G25 -> 6.0437691e+08 | H25: ='2024 13.10. su'!H25 -> -0.15210539

Sheet 2024 29.9. su
A1: VEROHALLINTO | F1: TULOVEROT | H1: N223
H2: 45929
G3: VEROVUOSI | H3: 2024
F5: € | H5: Muutos
A6: Ansio- ja pääomatuloverot | G6: 3.8073521e+10 | H6: 0.043655908
B7: Valtion verot | G7: 2.5373453e+10 | H7: 0.059004162
B8: - | C8: ansiotuloista | F8: 2.1227665e+10 | H8: 0.052809825
B9: - | C9: pääomatuloista | F9: 3.5779328e+09 | H9: 0.10402179
B10: - | C10: yleisradioverot | F10: 5.6785537e+08 | H10: 0.021240479
B11: Kunnallisverot | G11: 9.5952318e+09 | H11: 0.05947641
B12: Sairausvakuutusmaksu | G12: 2.0459231e+09 | H12: -0.1600808
B13: Kirkollisverot | G13: 1.0589135e+09 | H13: 0.029321864
B14: - | C14: evankelisluterilaiset seurakunnat | F14: 1.0397055e+09 | H14: 0.029126235
B15: - | C15: ortodoksiset seurakunnat | F15: 19208038 | H15: 0.04002316
A16: Yhteisöverot | G16: 7.0344689e+09 | H16: -0.03946601
B17: Valtio | G17: 5.3603745e+09 | H17: -0.036756045
B18: Kunnat | G18: 1.6740944e+09 | H18: -0.048041535
A19: Yhteisöjen yleisradioverot | G19: 29946217 | H19: -0.064091241
A20: Henkilöasiakkaat
B21: Veronpalautukset | G21: 2980000000 | H21: 0.055492586
B22: Jäännösverot | G22: 1240000000 | H22: 0.083771254
A23: Yhteisöt
B24: Veronpalautukset | G24: 5.9546302e+08 | H24: -0.24349717
B25: Jäännösverot | G25: 6.0437691e+08 | H25: -0.15210539

Sheet 2024 29.9 sv
A1: SKATTEFÖRVALTNINGEN | F1: INKOMSTSKATTER | H1: N223
H2: ='2024 29.9. su'!H2 -> 45929
G3: SKATTEÅR | H3: ='2024 29.9. su'!H3 -> 2024
F5: € | H5: Ändring
A6: Skatter av förvärvs- och kapitalinkomster | G6: ='2024 29.9. su'!G6 -> 3.8073521e+10 | H6: ='2024 29.9. su'!H6 -> 0.043655908
B7: Statsskatter | G7: ='2024 29.9. su'!G7 -> 2.5373453e+10 | H7: ='2024 29.9. su'!H7 -> 0.059004162
B8: - | C8: av förvärvsinkomster | F8: ='2024 29.9. su'!F8 -> 2.1227665e+10 | H8: ='2024 29.9. su'!H8 -> 0.052809825
B9: - | C9: av kapitalinkomster | F9: ='2024 29.9. su'!F9 -> 3.5779328e+09 | H9: ='2024 29.9. su'!H9 -> 0.10402179
B10: - | C10: rundradioskatter | F10: ='2024 29.9. su'!F10 -> 5.6785537e+08 | H10: ='2024 29.9. su'!H10 -> 0.021240479
B11: Kommunalskatter | G11: ='2024 29.9. su'!G11 -> 9.5952318e+09 | H11: ='2024 29.9. su'!H11 -> 0.05947641
B12: Sjukförsäkringspremie | G12: ='2024 29.9. su'!G12 -> 2.0459231e+09 | H12: ='2024 29.9. su'!H12 -> -0.1600808
B13: Kyrkoskatter | G13: ='2024 29.9. su'!G13 -> 1.0589135e+09 | H13: ='2024 29.9. su'!H13 -> 0.029321864
B14: - | C14: Ev luth. kyrkoskatter | F14: ='2024 29.9. su'!F14 -> 1.0397055e+09 | H14: ='2024 29.9. su'!H14 -> 0.029126235
B15: - | C15: Ortodoxa kyrkoskatter | F15: ='2024 29.9. su'!F15 -> 19208038 | H15: ='2024 29.9. su'!H15 -> 0.04002316
A16: Samfundskatter | G16: ='2024 29.9. su'!G16 -> 7.0344689e+09 | H16: ='2024 29.9. su'!H16 -> -0.03946601
B17: Staten | G17: ='2024 29.9. su'!G17 -> 5.3603745e+09 | H17: ='2024 29.9. su'!H17 -> -0.036756045
B18: Kommuner | G18: ='2024 29.9. su'!G18 -> 1.6740944e+09 | H18: ='2024 29.9. su'!H18 -> -0.048041535
A19: Rundradioskatter för samfund | G19: ='2024 29.9. su'!G19 -> 29946217 | H19: ='2024 29.9. su'!H19 -> -0.064091241
A20: Personkunder
B21: Skatteåterbäringar | G21: ='2024 29.9. su'!G21 -> 2980000000 | H21: ='2024 29.9. su'!H21 -> 0.055492586
B22: Kvarskatter | G22: ='2024 29.9. su'!G22 -> 1240000000 | H22: ='2024 29.9. su'!H22 -> 0.083771254
A23: Samfund
B24: Skatteåterbäringar | G24: ='2024 29.9. su'!G24 -> 5.9546302e+08 | H24: ='2024 29.9. su'!H24 -> -0.24349717
B25: Kvarskatter | G25: ='2024 29.9. su'!G25 -> 6.0437691e+08 | H25: ='2024 29.9. su'!H25 -> -0.15210539

Sheet 2024 8.9. su
A1: VEROHALLINTO | F1: TULOVEROT | H1: N223
H2: 45908
G3: VEROVUOSI | H3: 2024
F5: € | H5: Muutos
A6: Ansio- ja pääomatuloverot | G6: 3.806552e+10 | H6: 0.043436569
B7: Valtion verot | G7: 2.5366149e+10 | H7: 0.058699321
B8: - | C8: ansiotuloista | F8: 2.122802e+10 | H8: 0.052827457
B9: - | C9: pääomatuloista | F9: 3.5703378e+09 | H9: 0.10167824
B10: - | C10: yleisradioverot | F10: 5.6779096e+08 | H10: 0.021124629
B11: Kunnallisverot | G11: 9.5945041e+09 | H11: 0.059396054
B12: Sairausvakuutusmaksu | G12: 2.045961e+09 | H12: -0.16006522
B13: Kirkollisverot | G13: 1.0589055e+09 | H13: 0.029314111
B14: - | C14: evankelisluterilaiset seurakunnat | F14: 1.0396975e+09 | H14: 0.029118296
B15: - | C15: ortodoksiset seurakunnat | F15: 19208082 | H15: 0.040025537
A16: Yhteisöverot | G16: 7.058868e+09 | H16: -0.03613439
B17: Valtio | G17: 5.3791699e+09 | H17: -0.033378566
B18: Kunnat | G18: 1.6796982e+09 | H18: -0.044855027
A19: Yhteisöjen yleisradioverot | G19: 28854043 | H19: -0.098224937
A20: Henkilöasiakkaat
B21: Veronpalautukset | G21: 2980000000 | H21: 0.055492586
B22: Jäännösverot | G22: 1250000000 | H22: 0.092511345
A23: Yhteisöt
B24: Veronpalautukset | G24: 5.3993021e+08 | H24: -0.31404853
B25: Jäännösverot | G25: 5.8212069e+08 | H25: -0.18332917

Sheet 2024 8.9 sv
A1: SKATTEFÖRVALTNINGEN | F1: INKOMSTSKATTER | H1: N223
H2: ='2024 8.9. su'!H2 -> 45908
G3: SKATTEÅR | H3: ='2024 8.9. su'!H3 -> 2024
F5: € | H5: Ändring
A6: Skatter av förvärvs- och kapitalinkomster | G6: ='2024 8.9. su'!G6 -> 3.806552e+10 | H6: ='2024 8.9. su'!H6 -> 0.043436569
B7: Statsskatter | G7: ='2024 8.9. su'!G7 -> 2.5366149e+10 | H7: ='2024 8.9. su'!H7 -> 0.058699321
B8: - | C8: av förvärvsinkomster | F8: ='2024 8.9. su'!F8 -> 2.122802e+10 | H8: ='2024 8.9. su'!H8 -> 0.052827457
B9: - | C9: av kapitalinkomster | F9: ='2024 8.9. su'!F9 -> 3.5703378e+09 | H9: ='2024 8.9. su'!H9 -> 0.10167824
B10: - | C10: rundradioskatter | F10: ='2024 8.9. su'!F10 -> 5.6779096e+08 | H10: ='2024 8.9. su'!H10 -> 0.021124629
B11: Kommunalskatter | G11: ='2024 8.9. su'!G11 -> 9.5945041e+09 | H11: ='2024 8.9. su'!H11 -> 0.059396054
B12: Sjukförsäkringspremie | G12: ='2024 8.9. su'!G12 -> 2.045961e+09 | H12: ='2024 8.9. su'!H12 -> -0.16006522
B13: Kyrkoskatter | G13: ='2024 8.9. su'!G13 -> 1.0589055e+09 | H13: ='2024 8.9. su'!H13 -> 0.029314111
B14: - | C14: Ev luth. kyrkoskatter | F14: ='2024 8.9. su'!F14 -> 1.0396975e+09 | H14: ='2024 8.9. su'!H14 -> 0.029118296
B15: - | C15: Ortodoxa kyrkoskatter | F15: ='2024 8.9. su'!F15 -> 19208082 | H15: ='2024 8.9. su'!H15 -> 0.040025537
A16: Samfundskatter | G16: ='2024 8.9. su'!G16 -> 7.058868e+09 | H16: ='2024 8.9. su'!H16 -> -0.03613439
B17: Staten | G17: ='2024 8.9. su'!G17 -> 5.3791699e+09 | H17: ='2024 8.9. su'!H17 -> -0.033378566
B18: Kommuner | G18: ='2024 8.9. su'!G18 -> 1.6796982e+09 | H18: ='2024 8.9. su'!H18 -> -0.044855027
A19: Rundradioskatter för samfund | G19: ='2024 8.9. su'!G19 -> 28854043 | H19: ='2024 8.9. su'!H19 -> -0.098224937
A20: Personkunder
B21: Skatteåterbäringar | G21: ='2024 8.9. su'!G21 -> 2980000000 | H21: ='2024 8.9. su'!H21 -> 0.055492586
B22: Kvarskatter | G22: ='2024 8.9. su'!G22 -> 1250000000 | H22: ='2024 8.9. su'!H22 -> 0.092511345
A23: Samfund
B24: Skatteåterbäringar | G24: ='2024 8.9. su'!G24 -> 5.3993021e+08 | H24: ='2024 8.9. su'!H24 -> -0.31404853
B25: Kvarskatter | G25: ='2024 8.9. su'!G25 -> 5.8212069e+08 | H25: ='2024 8.9. su'!H25 -> -0.18332917

Sheet 2024 18.8. su
A1: VEROHALLINTO | F1: TULOVEROT | H1: N223
H2: 45887
G3: VEROVUOSI | H3: 2024
F5: € | H5: Muutos
A6: Ansio- ja pääomatuloverot | G6: 3.8072041e+10 | H6: 0.043615331
B7: Valtion verot | G7: 2.5373498e+10 | H7: 0.059006028
B8: - | C8: ansiotuloista | F8: 2.1228456e+10 | H8: 0.052849087
B9: - | C9: pääomatuloista | F9: 3.5772995e+09 | H9: 0.10382639
B10: - | C10: yleisradioverot | F10: 5.6774171e+08 | H10: 0.021036058
B11: Kunnallisverot | G11: 9.5937627e+09 | H11: 0.059314191
B12: Sairausvakuutusmaksu | G12: 2.0459497e+09 | H12: -0.16006987
B13: Kirkollisverot | G13: 1.0588311e+09 | H13: 0.029241716
B14: - | C14: evankelisluterilaiset seurakunnat | F14: 1.0396254e+09 | H14: 0.029046959
B15: - | C15: ortodoksiset seurakunnat | F15: 19205677 | H15: 0.039895313
A16: Yhteisöverot | G16: 7.1146008e+09 | H16: -0.028524253
B17: Valtio | G17: 5.4215391e+09 | H17: -0.025764927
B18: Kunnat | G18: 1.6930617e+09 | H18: -0.037255975
A19: Yhteisöjen yleisradioverot | G19: 27847697 | H19: -0.12967627
A20: Henkilöasiakkaat
B21: Veronpalautukset | G21: 2980000000 | H21: 0.055492586
B22: Jäännösverot | G22: 1250000000 | H22: 0.092511345
A23: Yhteisöt
B24: Veronpalautukset | G24: 4.7471983e+08 | H24: -0.39689472
B25: Jäännösverot | G25: 5.8006943e+08 | H25: -0.18620692

Sheet 2024 18.8 sv
A1: SKATTEFÖRVALTNINGEN | F1: INKOMSTSKATTER | H1: N223
H2: ='2024 18.8. su'!H2 -> 45887
G3: SKATTEÅR | H3: ='2024 18.8. su'!H3 -> 2024
F5: € | H5: Ändring
A6: Skatter av förvärvs- och kapitalinkomster | G6: ='2024 18.8. su'!G6 -> 3.8072041e+10 | H6: ='2024 18.8. su'!H6 -> 0.043615331
B7: Statsskatter | G7: ='2024 18.8. su'!G7 -> 2.5373498e+10 | H7: ='2024 18.8. su'!H7 -> 0.059006028
B8: - | C8: av förvärvsinkomster | F8: ='2024 18.8. su'!F8 -> 2.1228456e+10 | H8: ='2024 18.8. su'!H8 -> 0.052849087
B9: - | C9: av kapitalinkomster | F9: ='2024 18.8. su'!F9 -> 3.5772995e+09 | H9: ='2024 18.8. su'!H9 -> 0.10382639
B10: - | C10: rundradioskatter | F10: ='2024 18.8. su'!F10 -> 5.6774171e+08 | H10: ='2024 18.8. su'!H10 -> 0.021036058
B11: Kommunalskatter | G11: ='2024 18.8. su'!G11 -> 9.5937627e+09 | H11: ='2024 18.8. su'!H11 -> 0.059314191
B12: Sjukförsäkringspremie | G12: ='2024 18.8. su'!G12 -> 2.0459497e+09 | H12: ='2024 18.8. su'!H12 -> -0.16006987
B13: Kyrkoskatter | G13: ='2024 18.8. su'!G13 -> 1.0588311e+09 | H13: ='2024 18.8. su'!H13 -> 0.029241716
B14: - | C14: Ev luth. kyrkoskatter | F14: ='2024 18.8. su'!F14 -> 1.0396254e+09 | H14: ='2024 18.8. su'!H14 -> 0.029046959
B15: - | C15: Ortodoxa kyrkoskatter | F15: ='2024 18.8. su'!F15 -> 19205677 | H15: ='2024 18.8. su'!H15 -> 0.039895313
A16: Samfundskatter | G16: ='2024 18.8. su'!G16 -> 7.1146008e+09 | H16: ='2024 18.8. su'!H16 -> -0.028524253
B17: Staten | G17: ='2024 18.8. su'!G17 -> 5.4215391e+09 | H17: ='2024 18.8. su'!H17 -> -0.025764927
B18: Kommuner | G18: ='2024 18.8. su'!G18 -> 1.6930617e+09 | H18: ='2024 18.8. su'!H18 -> -0.037255975
A19: Rundradioskatter för samfund | G19: ='2024 18.8. su'!G19 -> 27847697 | H19: ='2024 18.8. su'!H19 -> -0.12967627
A20: Personkunder
B21: Skatteåterbäringar | G21: ='2024 18.8. su'!G21 -> 2980000000 | H21: ='2024 18.8. su'!H21 -> 0.055492586
B22: Kvarskatter | G22: ='2024 18.8. su'!G22 -> 1250000000 | H22: ='2024 18.8. su'!H22 -> 0.092511345
A23: Samfund
B24: Skatteåterbäringar | G24: ='2024 18.8. su'!G24 -> 4.7471983e+08 | H24: ='2024 18.8. su'!H24 -> -0.39689472
B25: Kvarskatter | G25: ='2024 18.8. su'!G25 -> 5.8006943e+08 | H25: ='2024 18.8. su'!H25 -> -0.18620692

Sheet 2024 28.7 su
A1: VEROHALLINTO | F1: TULOVEROT | H1: N223
H2: 45866
G3: VEROVUOSI | H3: 2024
F5: € | H5: Muutos
A6: Ansio- ja pääomatuloverot | G6: 3.8052116e+10 | H6: 0.043069155
B7: Valtion verot | G7: 2.536283e+10 | H7: 0.058560784
B8: - | C8: ansiotuloista | F8: 2.1213506e+10 | H8: 0.052107619
B9: - | C9: pääomatuloista | F9: 3.5818826e+09 | H9: 0.10524056
B10: - | C10: yleisradioverot | F10: 5.6744083e+08 | H10: 0.020494955
B11: Kunnallisverot | G11: 9.5862932e+09 | H11: 0.05848944
B12: Sairausvakuutusmaksu | G12: 2.0450098e+09 | H12: -0.16045571
B13: Kirkollisverot | G13: 1.0579832e+09 | H13: 0.028417594
B14: - | C14: evankelisluterilaiset seurakunnat | F14: 1.0387783e+09 | H14: 0.028208483
B15: - | C15: ortodoksiset seurakunnat | F15: 19204958 | H15: 0.039856354
A16: Yhteisöverot | G16: 7.0858391e+09 | H16: -0.03245157
B17: Valtio | G17: 5.3995516e+09 | H17: -0.029716027
B18: Kunnat | G18: 1.6862875e+09 | H18: -0.041108032
A19: Yhteisöjen yleisradioverot | G19: 24071197 | H19: -0.24770316
A20: Henkilöasiakkaat
B21: Veronpalautukset | G21: 3000000000 | H21: 0.062576429
B22: Jäännösverot | G22: 1270000000 | H22: 0.10999153
A23: Yhteisöt
B24: Veronpalautukset | G24: 3.7548422e+08 | H24: -0.52296806
B25: Jäännösverot | G25: 4.2056602e+08 | H25: -0.40997801

Sheet 2024 28.7 sv
A1: SKATTEFÖRVALTNINGEN | F1: INKOMSTSKATTER | H1: N223
H2: ='2024 28.7 su'!H2 -> 45866
G3: SKATTEÅR | H3: ='2024 28.7 su'!H3 -> 2024
F5: € | H5: Ändring
A6: Skatter av förvärvs- och kapitalinkomster | G6: ='2024 28.7 su'!G6 -> 3.8052116e+10 | H6: ='2024 28.7 su'!H6 -> 0.043069155
B7: Statsskatter | G7: ='2024 28.7 su'!G7 -> 2.536283e+10 | H7: ='2024 28.7 su'!H7 -> 0.058560784
B8: - | C8: av förvärvsinkomster | F8: ='2024 28.7 su'!F8 -> 2.1213506e+10 | H8: ='2024 28.7 su'!H8 -> 0.052107619
B9: - | C9: av kapitalinkomster | F9: ='2024 28.7 su'!F9 -> 3.5818826e+09 | H9: ='2024 28.7 su'!H9 -> 0.10524056
B10: - | C10: rundradioskatter | F10: ='2024 28.7 su'!F10 -> 5.6744083e+08 | H10: ='2024 28.7 su'!H10 -> 0.020494955
B11: Kommunalskatter | G11: ='2024 28.7 su'!G11 -> 9.5862932e+09 | H11: ='2024 28.7 su'!H11 -> 0.05848944
B12: Sjukförsäkringspremie | G12: ='2024 28.7 su'!G12 -> 2.0450098e+09 | H12: ='2024 28.7 su'!H12 -> -0.16045571
B13: Kyrkoskatter | G13: ='2024 28.7 su'!G13 -> 1.0579832e+09 | H13: ='2024 28.7 su'!H13 -> 0.028417594
B14: - | C14: Ev luth. kyrkoskatter | F14: ='2024 28.7 su'!F14 -> 1.0387783e+09 | H14: ='2024 28.7 su'!H14 -> 0.028208483
B15: - | C15: Ortodoxa kyrkoskatter | F15: ='2024 28.7 su'!F15 -> 19204958 | H15: ='2024 28.7 su'!H15 -> 0.039856354
A16: Samfundskatter | G16: ='2024 28.7 su'!G16 -> 7.0858391e+09 | H16: ='2024 28.7 su'!H16 -> -0.03245157
B17: Staten | G17: ='2024 28.7 su'!G17 -> 5.3995516e+09 | H17: ='2024 28.7 su'!H17 -> -0.029716027
B18: Kommuner | G18: ='2024 28.7 su'!G18 -> 1.6862875e+09 | H18: ='2024 28.7 su'!H18 -> -0.041108032
A19: Rundradioskatter för samfund | G19: ='2024 28.7 su'!G19 -> 24071197 | H19: ='2024 28.7 su'!H19 -> -0.24770316
A20: Personkunder
B21: Skatteåterbäringar | G21: ='2024 28.7 su'!G21 -> 3000000000 | H21: ='2024 28.7 su'!H21 -> 0.062576429
B22: Kvarskatter | G22: ='2024 28.7 su'!G22 -> 1270000000 | H22: ='2024 28.7 su'!H22 -> 0.10999153
A23: Samfund
B24: Skatteåterbäringar | G24: ='2024 28.7 su'!G24 -> 3.7548422e+08 | H24: ='2024 28.7 su'!H24 -> -0.52296806
B25: Kvarskatter | G25: ='2024 28.7 su'!G25 -> 4.2056602e+08 | H25: ='2024 28.7 su'!H25 -> -0.40997801

Sheet 2024 16.6. su
A1: VEROHALLINTO | F1: TULOVEROT | H1: N223
H2: 45824
G3: VEROVUOSI | H3: 2024
F5: € | H5: Muutos
A6: Ansio- ja pääomatuloverot | G6: 3.8052116e+10 | H6: 0.043069155
B7: Valtion verot | G7: 2.536283e+10 | H7: 0.058560784
B8: - | C8: ansiotuloista | F8: 2.1213506e+10 | H8: 0.052107619
B9: - | C9: pääomatuloista | F9: 3.5818826e+09 | H9: 0.10524056
B10: - | C10: yleisradioverot | F10: 5.6744083e+08 | H10: 0.020494955
B11: Kunnallisverot | G11: 9.5862932e+09 | H11: 0.05848944
B12: Sairausvakuutusmaksu | G12: 2.0450098e+09 | H12: -0.16045571
B13: Kirkollisverot | G13: 1.0579832e+09 | H13: 0.028417594
B14: - | C14: evankelisluterilaiset seurakunnat | F14: 1.0387783e+09 | H14: 0.028208483
B15: - | C15: ortodoksiset seurakunnat | F15: 19204958 | H15: 0.039856354
A16: Yhteisöverot | G16: 7.0858391e+09 | H16: -0.03245157
B17: Valtio | G17: 5.3995516e+09 | H17: -0.029716027
B18: Kunnat | G18: 1.6862875e+09 | H18: -0.041108032
A19: Yhteisöjen yleisradioverot | G19: 24071197 | H19: -0.24770316
A20: Henkilöasiakkaat
B21: Veronpalautukset | G21: 3000000000 | H21: 0.062576429
B22: Jäännösverot | G22: 1270000000 | H22: 0.10999153
A23: Yhteisöt
B24: Veronpalautukset | G24: 3.7548422e+08 | H24: -0.52296806
B25: Jäännösverot | G25: 4.2056602e+08 | H25: -0.40997801

Sheet 2024 16.6 sv
A1: SKATTEFÖRVALTNINGEN | F1: INKOMSTSKATTER | H1: N223
H2: ='2024 16.6. su'!H2 -> 45824
G3: SKATTEÅR | H3: ='2024 16.6. su'!H3 -> 2024
F5: € | H5: Ändring
A6: Skatter av förvärvs- och kapitalinkomster | G6: ='2024 16.6. su'!G6 -> 3.8052116e+10 | H6: ='2024 16.6. su'!H6 -> 0.043069155
B7: Statsskatter | G7: ='2024 16.6. su'!G7 -> 2.536283e+10 | H7: ='2024 16.6. su'!H7 -> 0.058560784
B8: - | C8: av förvärvsinkomster | F8: ='2024 16.6. su'!F8 -> 2.1213506e+10 | H8: ='2024 16.6. su'!H8 -> 0.052107619
B9: - | C9: av kapitalinkomster | F9: ='2024 16.6. su'!F9 -> 3.5818826e+09 | H9: ='2024 16.6. su'!H9 -> 0.10524056
B10: - | C10: rundradioskatter | F10: ='2024 16.6. su'!F10 -> 5.6744083e+08 | H10: ='2024 16.6. su'!H10 -> 0.020494955
B11: Kommunalskatter | G11: ='2024 16.6. su'!G11 -> 9.5862932e+09 | H11: ='2024 16.6. su'!H11 -> 0.05848944
B12: Sjukförsäkringspremie | G12: ='2024 16.6. su'!G12 -> 2.0450098e+09 | H12: ='2024 16.6. su'!H12 -> -0.16045571
B13: Kyrkoskatter | G13: ='2024 16.6. su'!G13 -> 1.0579832e+09 | H13: ='2024 16.6. su'!H13 -> 0.028417594
B14: - | C14: Ev luth. kyrkoskatter | F14: ='2024 16.6. su'!F14 -> 1.0387783e+09 | H14: ='2024 16.6. su'!H14 -> 0.028208483
B15: - | C15: Ortodoxa kyrkoskatter | F15: ='2024 16.6. su'!F15 -> 19204958 | H15: ='2024 16.6. su'!H15 -> 0.039856354
A16: Samfundskatter | G16: ='2024 16.6. su'!G16 -> 7.0858391e+09 | H16: ='2024 16.6. su'!H16 -> -0.03245157
B17: Staten | G17: ='2024 16.6. su'!G17 -> 5.3995516e+09 | H17: ='2024 16.6. su'!H17 -> -0.029716027
B18: Kommuner | G18: ='2024 16.6. su'!G18 -> 1.6862875e+09 | H18: ='2024 16.6. su'!H18 -> -0.041108032
A19: Rundradioskatter för samfund | G19: ='2024 16.6. su'!G19 -> 24071197 | H19: ='2024 16.6. su'!H19 -> -0.24770316
A20: Personkunder
B21: Skatteåterbäringar | G21: ='2024 16.6. su'!G21 -> 3000000000 | H21: ='2024 16.6. su'!H21 -> 0.062576429
B22: Kvarskatter | G22: ='2024 16.6. su'!G22 -> 1270000000 | H22: ='2024 16.6. su'!H22 -> 0.10999153
A23: Samfund
B24: Skatteåterbäringar | G24: ='2024 16.6. su'!G24 -> 3.7548422e+08 | H24: ='2024 16.6. su'!H24 -> -0.52296806
B25: Kvarskatter | G25: ='2024 16.6. su'!G25 -> 4.2056602e+08 | H25: ='2024 16.6. su'!H25 -> -0.40997801

Sheet 2023 su
A1: VEROHALLINTO | F1: TULOVEROT | H1: N223
H2: 45600
G3: VEROVUOSI | H3: 2023
F5: € | H5: Muutos
A6: Ansio- ja pääomatuloverot | G6: 3.6480914e+10 | H6: 0.030585475
B7: Valtion verot | G7: 2.3959729e+10 | H7: 1.2605423
B8: - | C8: ansiotuloista | F8: 2.0162867e+10 | H8: 2.1935437
B9: - | C9: pääomatuloista | F9: 3.2408172e+09 | H9: -0.13547688
B10: - | C10: yleisradioverot | F10: 5.5604472e+08 | H10: 0.035858227
B11: Kunnallisverot | G11: 9.056579e+09 | H11: -0.58501576
B12: Sairausvakuutusmaksu | G12: 2.435857e+09 | H12: 0.20475919
B13: Kirkollisverot | G13: 1.0287487e+09 | H13: 0.079073888
B14: - | C14: evankelisluterilaiset seurakunnat | F14: 1.0102798e+09 | H14: 0.07872865
B15: - | C15: ortodoksiset seurakunnat | F15: 18468856 | H15: 0.098301678
A16: Yhteisöverot | G16: 7.3234981e+09 | H16: -0.086200543
B17: Valtio | G17: 5.5649189e+09 | H17: 0.050276667
B18: Kunnat | G18: 1.7585793e+09 | H18: -0.35246646
A19: Yhteisöjen yleisradioverot | G19: 31996940 | H19: -0.053055488
A20: Henkilöasiakkaat
B21: Veronpalautukset | G21: 2.8233263e+09 | H21: -0.00053435195
B22: Jäännösverot | G22: 1.1441529e+09 | H22: -0.14239814
A23: Yhteisöt
B24: Veronpalautukset | G24: 7.8712597e+08 | H24: 0.034955776
B25: Jäännösverot | G25: 7.127972e+08 | H25: -0.30012582

Sheet 2023 sv
A1: SKATTEFÖRVALTNINGEN | F1: INKOMSTSKATTER | H1: N223
H2: ='2023 su'!H2 -> 45600
G3: SKATTEÅR | H3: ='2023 su'!H3 -> 2023
F5: € | H5: Ändring
A6: Skatter av förvärvs- och kapitalinkomster | G6: ='2023 su'!G6 -> 3.6480914e+10 | H6: ='2023 su'!H6 -> 0.030585475
B7: Statsskatter | G7: ='2023 su'!G7 -> 2.3959729e+10 | H7: ='2023 su'!H7 -> 1.2605423
B8: - | C8: av förvärvsinkomster | F8: ='2023 su'!F8 -> 2.0162867e+10 | H8: ='2023 su'!H8 -> 2.1935437
B9: - | C9: av kapitalinkomster | F9: ='2023 su'!F9 -> 3.2408172e+09 | H9: ='2023 su'!H9 -> -0.13547688
B10: - | C10: rundradioskatter | F10: ='2023 su'!F10 -> 5.5604472e+08 | H10: ='2023 su'!H10 -> 0.035858227
B11: Kommunalskatter | G11: ='2023 su'!G11 -> 9.056579e+09 | H11: ='2023 su'!H11 -> -0.58501576
B12: Sjukförsäkringspremie | G12: ='2023 su'!G12 -> 2.435857e+09 | H12: ='2023 su'!H12 -> 0.20475919
B13: Kyrkoskatter | G13: ='2023 su'!G13 -> 1.0287487e+09 | H13: ='2023 su'!H13 -> 0.079073888
B14: - | C14: Ev luth. kyrkoskatter | F14: ='2023 su'!F14 -> 1.0102798e+09 | H14: ='2023 su'!H14 -> 0.07872865
B15: - | C15: Ortodoxa kyrkoskatter | F15: ='2023 su'!F15 -> 18468856 | H15: ='2023 su'!H15 -> 0.098301678
A16: Samfundskatter | G16: ='2023 su'!G16 -> 7.3234981e+09 | H16: ='2023 su'!H16 -> -0.086200543
B17: Staten | G17: ='2023 su'!G17 -> 5.5649189e+09 | H17: ='2023 su'!H17 -> 0.050276667
B18: Kommuner | G18: ='2023 su'!G18 -> 1.7585793e+09 | H18: ='2023 su'!H18 -> -0.35246646
A19: Rundradioskatter för samfund | G19: ='2023 su'!G19 -> 31996940 | H19: ='2023 su'!H19 -> -0.053055488
A20: Personkunder
B21: Skatteåterbäringar | G21: ='2023 su'!G21 -> 2.8233263e+09 | H21: ='2023 su'!H21 -> -0.00053435195
B22: Kvarskatter | G22: ='2023 su'!G22 -> 1.1441529e+09 | H22: ='2023 su'!H22 -> -0.14239814
A23: Samfund
B24: Skatteåterbäringar | G24: ='2023 su'!G24 -> 7.8712597e+08 | H24: ='2023 su'!H24 -> 0.034955776
B25: Kvarskatter | G25: ='2023 su'!G25 -> 7.127972e+08 | H25: ='2023 su'!H25 -> -0.30012582

Sheet 2022 su
A1: VEROHALLINTO | F1: TULOVEROT | H1: N223
H2: 45232
G3: VEROVUOSI | H3: 2022
F5: € | H5: Muutos
A6: Ansio- ja pääomatuloverot | G6: 3.5398242e+10 | H6: 0.0089387673
B7: Valtion verot | G7: 1.0599107e+10 | H7: -0.027623094
B8: - | C8: ansiotuloista | F8: 6.3136344e+09 | H8: 0.047918338
B9: - | C9: pääomatuloista | F9: 3.7486761e+09 | H9: -0.13875374
B10: - | C10: yleisradioverot | F10: 5.3679616e+08 | H10: 0.027054284
B11: Kunnallisverot | G11: 2.182391e+10 | H11: 0.039578579
B12: Sairausvakuutusmaksu | G12: 2.0218622e+09 | H12: -0.10396212
B13: Kirkollisverot | G13: 9.533626e+08 | H13: 0.019703044
B14: - | C14: evankelisluterilaiset seurakunnat | F14: 9.3654677e+08 | H14: 0.019634367
B15: - | C15: ortodoksiset seurakunnat | F15: 16815832 | H15: 0.023542639
A16: Yhteisöverot | G16: 8.0143385e+09 | H16: 0.10070902
B17: Valtio | G17: 5.2985266e+09 | H17: 0.31107052
B18: Kunnat | G18: 2.7158119e+09 | H18: -0.16170752
A19: Yhteisöjen yleisradioverot | G19: 33789668 | H19: 0.0015781517
A20: Henkilöasiakkaat
B21: Veronpalautukset | G21: 2.8248358e+09 | H21: 0.16060393
B22: Jäännösverot | G22: 1.3341306e+09 | H22: -0.24324362
A23: Yhteisöt
B24: Veronpalautukset | G24: 7.6054068e+08 | H24: 0.21205766
B25: Jäännösverot | G25: 1.0184648e+09 | H25: 0.10207718

Sheet 2022 sv
A1: SKATTEFÖRVALTNINGEN | F1: INKOMSTSKATTER | H1: N223
H2: ='2022 su'!H2 -> 45232
G3: SKATTEÅR | H3: ='2022 su'!H3 -> 2022
F5: € | H5: Ändring
A6: Skatter av förvärvs- och kapitalinkomster | G6: ='2022 su'!G6 -> 3.5398242e+10 | H6: ='2022 su'!H6 -> 0.0089387673
B7: Statsskatter | G7: ='2022 su'!G7 -> 1.0599107e+10 | H7: ='2022 su'!H7 -> -0.027623094
B8: - | C8: av förvärvsinkomster | F8: ='2022 su'!F8 -> 6.3136344e+09 | H8: ='2022 su'!H8 -> 0.047918338
B9: - | C9: av kapitalinkomster | F9: ='2022 su'!F9 -> 3.7486761e+09 | H9: ='2022 su'!H9 -> -0.13875374
B10: - | C10: rundradioskatter | F10: ='2022 su'!F10 -> 5.3679616e+08 | H10: ='2022 su'!H10 -> 0.027054284
B11: Kommunalskatter | G11: ='2022 su'!G11 -> 2.182391e+10 | H11: ='2022 su'!H11 -> 0.039578579
B12: Sjukförsäkringspremie | G12: ='2022 su'!G12 -> 2.0218622e+09 | H12: ='2022 su'!H12 -> -0.10396212
B13: Kyrkoskatter | G13: ='2022 su'!G13 -> 9.533626e+08 | H13: ='2022 su'!H13 -> 0.019703044
B14: - | C14: Ev luth. kyrkoskatter | F14: ='2022 su'!F14 -> 9.3654677e+08 | H14: ='2022 su'!H14 -> 0.019634367
B15: - | C15: Ortodoxa kyrkoskatter | F15: ='2022 su'!F15 -> 16815832 | H15: ='2022 su'!H15 -> 0.023542639
A16: Samfundskatter | G16: ='2022 su'!G16 -> 8.0143385e+09 | H16: ='2022 su'!H16 -> 0.10070902
B17: Staten | G17: ='2022 su'!G17 -> 5.2985266e+09 | H17: ='2022 su'!H17 -> 0.31107052
B18: Kommuner | G18: ='2022 su'!G18 -> 2.7158119e+09 | H18: ='2022 su'!H18 -> -0.16170752
A19: Rundradioskatter för samfund | G19: ='2022 su'!G19 -> 33789668 | H19: ='2022 su'!H19 -> 0.0015781517
A20: Personkunder
B21: Skatteåterbäringar | G21: ='2022 su'!G21 -> 2.8248358e+09 | H21: ='2022 su'!H21 -> 0.16060393
B22: Kvarskatter | G22: ='2022 su'!G22 -> 1.3341306e+09 | H22: ='2022 su'!H22 -> -0.24324362
A23: Samfund
B24: Skatteåterbäringar | G24: ='2022 su'!G24 -> 7.6054068e+08 | H24: ='2022 su'!H24 -> 0.21205766
B25: Kvarskatter | G25: ='2022 su'!G25 -> 1.0184648e+09 | H25: ='2022 su'!H25 -> 0.10207718

Sheet 2021 su
A1: VEROHALLINTO | F1: TULOVEROT | H1: N223
H2: 44866
G3: VEROVUOSI | H3: 2021
F5: € | H5: Muutos
A6: Ansio- ja pääomatuloverot | G6: 3.5130085e+10 | H6: 0.087325031
B7: Valtion verot | G7: 1.094566e+10 | H7: 0.1813017
B8: - | C8: ansiotuloista | F8: 6.0249298e+09 | H8: 0.061855424
B9: - | C9: pääomatuloista | F9: 4.3980743e+09 | H9: 0.42746203
B10: - | C10: yleisradioverot | F10: 5.2265607e+08 | H10: 0.023305429
B11: Kunnallisverot | G11: 2.0993036e+10 | H11: 0.04324028
B12: Sairausvakuutusmaksu | G12: 2.2564472e+09 | H12: 0.12452002
B13: Kirkollisverot | G13: 9.3494141e+08 | H13: 0.023516287
B14: - | C14: evankelisluterilaiset seurakunnat | F14: 9.1851236e+08 | H14: 0.023518582
B15: - | C15: ortodoksiset seurakunnat | F15: 16429049 | H15: 0.023387952
A16: Yhteisöverot | G16: 7.2810691e+09 | H16: 0.33883123
B17: Valtio | G17: 4.0413742e+09 | H17: 0.28835445
B18: Kunnat | G18: 3.2396949e+09 | H18: 0.40762819
A19: Yhteisöjen yleisradioverot | G19: 33736426 | H19: 0.14123902
A20: Henkilöasiakkaat
B21: Veronpalautukset | G21: 2.4339361e+09 | H21: -0.045659006
B22: Jäännösverot | G22: 1.8084153e+09 | H22: 0.45544151
A23: Yhteisöt
B24: Veronpalautukset | G24: 6.2747896e+08 | H24: 0.12905373
B25: Jäännösverot | G25: 9.2413199e+08 | H25: 0.28144493

Sheet 2021 sv
A1: 2021 | F1: INKOMSTSKATTER | H1: N223
H2: ='2021 su'!H2 -> 44866
G3: SKATTEÅR | H3: ='2021 su'!H3 -> 2021
F5: € | H5: Ändring
A6: Skatter av förvärvs- och kapitalinkomster | G6: ='2021 su'!G6 -> 3.5130085e+10 | H6: ='2021 su'!H6 -> 0.087325031
B7: Statsskatter | G7: ='2021 su'!G7 -> 1.094566e+10 | H7: ='2021 su'!H7 -> 0.1813017
B8: - | C8: av förvärvsinkomster | F8: ='2021 su'!F8 -> 6.0249298e+09 | H8: ='2021 su'!H8 -> 0.061855424
B9: - | C9: av kapitalinkomster | F9: ='2021 su'!F9 -> 4.3980743e+09 | H9: ='2021 su'!H9 -> 0.42746203
B10: - | C10: rundradioskatter | F10: ='2021 su'!F10 -> 5.2265607e+08 | H10: ='2021 su'!H10 -> 0.023305429
B11: Kommunalskatter | G11: ='2021 su'!G11 -> 2.0993036e+10 | H11: ='2021 su'!H11 -> 0.04324028
B12: Sjukförsäkringspremie | G12: ='2021 su'!G12 -> 2.2564472e+09 | H12: ='2021 su'!H12 -> 0.12452002
B13: Kyrkoskatter | G13: ='2021 su'!G13 -> 9.3494141e+08 | H13: ='2021 su'!H13 -> 0.023516287
B14: - | C14: Ev luth. kyrkoskatter | F14: ='2021 su'!F14 -> 9.1851236e+08 | H14: ='2021 su'!H14 -> 0.023518582
B15: - | C15: Ortodoxa kyrkoskatter | F15: ='2021 su'!F15 -> 16429049 | H15: ='2021 su'!H15 -> 0.023387952
A16: Samfundskatter | G16: ='2021 su'!G16 -> 7.2810691e+09 | H16: ='2021 su'!H16 -> 0.33883123
B17: Staten | G17: ='2021 su'!G17 -> 4.0413742e+09 | H17: ='2021 su'!H17 -> 0.28835445
B18: Kommuner | G18: ='2021 su'!G18 -> 3.2396949e+09 | H18: ='2021 su'!H18 -> 0.40762819
A19: Rundradioskatter för samfund | G19: ='2021 su'!G19 -> 33736426 | H19: ='2021 su'!H19 -> 0.14123902
A20: Personkunder
B21: Skatteåterbäringar | G21: ='2021 su'!G21 -> 2.4339361e+09 | H21: ='2021 su'!H21 -> -0.045659006
B22: Kvarskatter | G22: ='2021 su'!G22 -> 1.8084153e+09 | H22: ='2021 su'!H22 -> 0.45544151
A23: Samfund
B24: Skatteåterbäringar | G24: ='2021 su'!G24 -> 6.2747896e+08 | H24: ='2021 su'!H24 -> 0.12905373
B25: Kvarskatter | G25: ='2021 su'!G25 -> 9.2413199e+08 | H25: ='2021 su'!H25 -> 0.28144493

Sheet 2020
A1: VEROHALLINTO | F1: TULOVEROT | H1: N223
H2: 44502
G3: VEROVUOSI | H3: 2020
F5: € | H5: Muutos
A6: Ansio- ja pääomatuloverot | G6: 3.2308724e+10 | H6: 0.022364809
B7: Valtion verot | G7: 9.2657618e+09 | H7: 0.0031065902
B8: - | C8: ansiotuloista | F8: 5.6739643e+09 | H8: -0.0018031607
B9: - | C9: pääomatuloista | F9: 3.0810447e+09 | H9: 0.01046453
B10: - | C10: yleisradioverot | F10: 5.1075276e+08 | H10: 0.013971279
B11: Kunnallisverot | G11: 2.0122915e+10 | H11: 0.025515247
B12: Sairausvakuutusmaksu | G12: 2.0065869e+09 | H12: 0.09551234
B13: Kirkollisverot | G13: 9.1346021e+08 | H13: 0.0027056824
B14: - | C14: evankelisluterilaiset seurakunnat | F14: 8.9740663e+08 | H14: 0.0025693098
B15: - | C15: ortodoksiset seurakunnat | F15: 16053588 | H15: 0.010388463
A16: Yhteisöverot | G16: 5.4383771e+09 | H16: -0.061228896
B17: Valtio | G17: 3.1368497e+09 | H17: -0.20976575
B18: Kunnat | G18: 2.3015274e+09 | H18: 0.26210518
A19: Yhteisöjen yleisradioverot | G19: 29561228 | H19: 0.047699158
A20: Jäännösverot | G20: 1.9636841e+09 | H20: 0.04543466
B21: Henkilöasiakkaat | G21: 1.2425201e+09 | H21: -0.036113273
B22: Yhteisöt | G22: 7.2116403e+08 | H22: 0.22382707
A23: Veronpalautukset | G23: 3.1061406e+09 | H23: -0.037639089
B24: Henkilöasiakkaat | G24: 2.5503841e+09 | H24: -0.0012337224
B25: Yhteisöt | G25: 5.5575651e+08 | H25: -0.17554681

Sheet 2020 sv
A1: SKATTEFÖRVALTNINGEN | F1: INKOMSTSKATTER | H1: N223
H2: ='2020'!H2 -> 44502
G3: SKATTEÅR | H3: ='2020'!H3 -> 2020
F5: € | H5: Ändring
A6: Skatter av förvärvs- och kapitalinkomster | G6: ='2020'!G6 -> 3.2308724e+10 | H6: ='2020'!H6 -> 0.022364809
B7: Statsskatter | G7: ='2020'!G7 -> 9.2657618e+09 | H7: ='2020'!H7 -> 0.0031065902
B8: - | C8: av förvärvsinkomster | F8: ='2020'!F8 -> 5.6739643e+09 | H8: ='2020'!H8 -> -0.0018031607
B9: - | C9: av kapitalinkomster | F9: ='2020'!F9 -> 3.0810447e+09 | H9: ='2020'!H9 -> 0.01046453
B10: - | C10: rundradioskatter | F10: ='2020'!F10 -> 5.1075276e+08 | H10: ='2020'!H10 -> 0.013971279
B11: Kommunalskatter | G11: ='2020'!G11 -> 2.0122915e+10 | H11: ='2020'!H11 -> 0.025515247
B12: Sjukförsäkringspremie | G12: ='2020'!G12 -> 2.0065869e+09 | H12: ='2020'!H12 -> 0.09551234
B13: Kyrkoskatter | G13: ='2020'!G13 -> 9.1346021e+08 | H13: ='2020'!H13 -> 0.0027056824
B14: - | C14: Ev luth. kyrkoskatter | F14: ='2020'!F14 -> 8.9740663e+08 | H14: ='2020'!H14 -> 0.0025693098
B15: - | C15: Ortodoxa kyrkoskatter | F15: ='2020'!F15 -> 16053588 | H15: ='2020'!H15 -> 0.010388463
A16: Samfundskatter | G16: ='2020'!G16 -> 5.4383771e+09 | H16: ='2020'!H16 -> -0.061228896
B17: Staten | G17: ='2020'!G17 -> 3.1368497e+09 | H17: ='2020'!H17 -> -0.20976575
B18: Kommuner | G18: ='2020'!G18 -> 2.3015274e+09 | H18: ='2020'!H18 -> 0.26210518
A19: Rundradioskatter för samfund | G19: ='2020'!G19 -> 29561228 | H19: ='2020'!H19 -> 0.047699158
A20: Kvarskatter | G20: ='2020'!G20 -> 1.9636841e+09 | H20: ='2020'!H20 -> 0.04543466
B21: Personkunder | G21: ='2020'!G21 -> 1.2425201e+09 | H21: ='2020'!H21 -> -0.036113273
B22: Samfund | G22: ='2020'!G22 -> 7.2116403e+08 | H22: ='2020'!H22 -> 0.22382707
A23: Skatteåterbäringar | G23: ='2020'!G23 -> 3.1061406e+09 | H23: ='2020'!H23 -> -0.037639089
B24: Personkunder | G24: ='2020'!G24 -> 2.5503841e+09 | H24: ='2020'!H24 -> -0.0012337224
B25: Samfund | G25: ='2020'!G25 -> 5.5575651e+08 | H25: ='2020'!H25 -> -0.17554681

Sheet 2019 fi
A1: VEROHALLINTO | F1: TULOVEROT | H1: N223
H2: 44137
G3: VEROVUOSI | H3: 2019
F5: € | H5: Muutos
A6: Ansio- ja pääomatuloverot | G6: 3.1601953e+10 | H6: 0.027388248
B7: Valtion verot | G7: 9.237066e+09 | H7: 0.0086758844
B8: - | C8: ansiotuloista | F8: 5.6842138e+09 | H8: 0.023033283
B9: - | C9: pääomatuloista | F9: 3.0491369e+09 | H9: -0.019434666
B10: - | C10: yleisradioverot | F10: 5.0371522e+08 | H10: 0.028491722
B11: Kunnallisverot | G11: 1.9622249e+10 | H11: 0.034255592
B12: Sairausvakuutusmaksu | G12: 1.8316425e+09 | H12: 0.057741571
B13: Kirkollisverot | G13: 9.1099535e+08 | H13: 0.01459117
B14: - | C14: evankelisluterilaiset seurakunnat | F14: 8.9510682e+08 | H14: 0.014466238
B15: - | C15: ortodoksiset seurakunnat | F15: 15888531 | H15: 0.021679483
A16: Yhteisöverot | G16: 5.7930811e+09 | H16: -0.015362971
B17: Valtio | G17: 3.9695188e+09 | H17: -0.014934184
B18: Kunnat | G18: 1.8235623e+09 | H18: -0.016295061
A19: Yhteisöjen yleisradioverot | G19: 28215378 | H19: 0.024400869
A20: Jäännösverot | G20: 1.8783422e+09 | H20: 0.041706079
B21: Henkilöasiakkaat | G21: 1.2890727e+09 | H21: 0.10766223
B22: Yhteisöt | G22: 5.8926956e+08 | H22: -0.078348349
A23: Veronpalautukset | G23: 3.2276255e+09 | H23: -0.11164065
B24: Henkilöasiakkaat | G24: 2.5535344e+09 | H24: -0.13818058
B25: Yhteisöt | G25: 6.7409104e+08 | H25: 0.005677548

Sheet 2019 sv
A1: SKATTEFÖRVALTNINGEN | F1: INKOMSTSKATTER | H1: N223
H2: ='2019 fi'!H2 -> 44137
G3: SKATTEÅR | H3: ='2019 fi'!H3 -> 2019
F5: € | H5: Ändring
A6: Skatter av förvärvs- och kapitalinkomster | G6: ='2019 fi'!G6 -> 3.1601953e+10 | H6: ='2019 fi'!H6 -> 0.027388248
B7: Statsskatter | G7: ='2019 fi'!G7 -> 9.237066e+09 | H7: ='2019 fi'!H7 -> 0.0086758844
B8: - | C8: av förvärvsinkomster | F8: ='2019 fi'!F8 -> 5.6842138e+09 | H8: ='2019 fi'!H8 -> 0.023033283
B9: - | C9: av kapitalinkomster | F9: ='2019 fi'!F9 -> 3.0491369e+09 | H9: ='2019 fi'!H9 -> -0.019434666
B10: - | C10: rundradioskatter | F10: ='2019 fi'!F10 -> 5.0371522e+08 | H10: ='2019 fi'!H10 -> 0.028491722
B11: Kommunalskatter | G11: ='2019 fi'!G11 -> 1.9622249e+10 | H11: ='2019 fi'!H11 -> 0.034255592
B12: Sjukförsäkringspremie | G12: ='2019 fi'!G12 -> 1.8316425e+09 | H12: ='2019 fi'!H12 -> 0.057741571
B13: Kyrkoskatter | G13: ='2019 fi'!G13 -> 9.1099535e+08 | H13: ='2019 fi'!H13 -> 0.01459117
B14: - | C14: Ev luth. kyrkoskatter | F14: ='2019 fi'!F14 -> 8.9510682e+08 | H14: ='2019 fi'!H14 -> 0.014466238
B15: - | C15: Ortodoxa kyrkoskatter | F15: ='2019 fi'!F15 -> 15888531 | H15: ='2019 fi'!H15 -> 0.021679483
A16: Samfundskatter | G16: ='2019 fi'!G16 -> 5.7930811e+09 | H16: ='2019 fi'!H16 -> -0.015362971
B17: Staten | G17: ='2019 fi'!G17 -> 3.9695188e+09 | H17: ='2019 fi'!H17 -> -0.014934184
B18: Kommuner | G18: ='2019 fi'!G18 -> 1.8235623e+09 | H18: ='2019 fi'!H18 -> -0.016295061
A19: Rundradioskatter för samfund | G19: ='2019 fi'!G19 -> 28215378 | H19: ='2019 fi'!H19 -> 0.024400869
A20: Kvarskatter | G20: ='2019 fi'!G20 -> 1.8783422e+09 | H20: ='2019 fi'!H20 -> 0.041706079
B21: Personkunder | G21: ='2019 fi'!G21 -> 1.2890727e+09 | H21: ='2019 fi'!H21 -> 0.10766223
B22: Samfund | G22: ='2019 fi'!G22 -> 5.8926956e+08 | H22: ='2019 fi'!H22 -> -0.078348349
A23: Skatteåterbäringar | G23: ='2019 fi'!G23 -> 3.2276255e+09 | H23: ='2019 fi'!H23 -> -0.11164065
B24: Personkunder | G24: ='2019 fi'!G24 -> 2.5535344e+09 | H24: ='2019 fi'!H24 -> -0.13818058
B25: Samfund | G25: ='2019 fi'!G25 -> 6.7409104e+08 | H25: ='2019 fi'!H25 -> 0.005677548

Sheet 2018 fi
A1: VEROHALLINTO | F1: TULOVEROT | H1: N223
H2: 43772
G3: VEROVUOSI | H3: 2018
F5: € | H5: Muutos
A6: Ansio- ja pääomatuloverot | G6: 3.0759504e+10 | H6: 0.02275651
B7: Valtion verot | G7: 9.1576156e+09 | H7: 0.020681379
B8: - | C8: ansiotuloista | F8: 5.5562355e+09 | H8: 0.003491571
B9: - | C9: pääomatuloista | F9: 3.1095704e+09 | H9: 0.055739009
B10: - | C10: yleisradioverot | F10: 4.9180968e+08 | H10: 0.0041828633
B11: Kunnallisverot | G11: 1.897234e+10 | H11: 0.023747798
B12: Sairausvakuutusmaksu | G12: 1.7316541e+09 | H12: 0.025131744
B13: Kirkollisverot | G13: 8.9789403e+08 | H13: 0.018486039
B14: - | C14: evankelisluterilaiset seurakunnat | F14: 8.8140879e+08 | H14: 0.018614342
B15: - | C15: ortodoksiset seurakunnat | F15: 15551385 | H15: 0.0086714941
B16: - | C16: saksalainen seurakunta | F16: 719337.57 | H16: 0.096761304
B17: - | C17: Rikssvenska Olaus Petri | F17: 214510.59 | H17: -0.031374174
A18: Yhteisöverot | G18: 5.8834686e+09 | H18: 0.045268463
B19: Valtio | G19: 4.029699e+09 | H19: 0.029927563
B20: Kunnat | G20: 1.8537696e+09 | H20: 0.080245539
B21: Evankelisluterilaiset seurakunnat | G21: 0
B22: Ortodoksinen kirkko | G22: 0
A23: Yhteisöjen yleisradioverot | G23: 27543297 | H23: 0.052756439
A24: Jäännösverot | G24: 1.8031403e+09 | H24: 0.078999929
B25: Henkilöasiakkaat | G25: 1.1637778e+09 | H25: 0.0046172403
B26: Yhteisöt | G26: 6.3936256e+08 | H26: 0.24706756
A27: Veronpalautukset | G27: 3.6332431e+09 | H27: 0.05214282
B28: Henkilöasiakkaat | G28: 2.9629576e+09 | H28: 0.0080425151
B29: Yhteisöt | G29: 6.7028546e+08 | H29: 0.30439686

Sheet 2018 sv
A1: SKATTEFÖRVALTNINGEN | F1: INKOMSTSKATTER | H1: N223
H2: ='2018 fi'!H2 -> 43772
G3: SKATTEÅR | H3: 2018
F5: € | H5: Ändring
A6: Skatter av förvärvs- och kapitalinkomster | G6: ='2018 fi'!G6 -> 3.0759504e+10 | H6: ='2018 fi'!H6 -> 0.02275651
B7: Statsskatter | G7: ='2018 fi'!G7 -> 9.1576156e+09 | H7: ='2018 fi'!H7 -> 0.020681379
B8: - | C8: av förvärvsinkomster | F8: ='2018 fi'!F8 -> 5.5562355e+09 | H8: ='2018 fi'!H8 -> 0.003491571
B9: - | C9: av kapitalinkomster | F9: ='2018 fi'!F9 -> 3.1095704e+09 | H9: ='2018 fi'!H9 -> 0.055739009
B10: - | C10: rundradioskatter | F10: ='2018 fi'!F10 -> 4.9180968e+08 | H10: ='2018 fi'!H10 -> 0.0041828633
B11: Kommunalskatter | G11: ='2018 fi'!G11 -> 1.897234e+10 | H11: ='2018 fi'!H11 -> 0.023747798
B12: Sjukförsäkringspremie | G12: ='2018 fi'!G12 -> 1.7316541e+09 | H12: ='2018 fi'!H12 -> 0.025131744
B13: Kyrkoskatter | G13: ='2018 fi'!G13 -> 8.9789403e+08 | H13: ='2018 fi'!H13 -> 0.018486039
B14: - | C14: Ev luth. kyrkoskatter | F14: ='2018 fi'!F14 -> 8.8140879e+08 | H14: ='2018 fi'!H14 -> 0.018614342
B15: - | C15: Ortodoxa kyrkoskatter | F15: ='2018 fi'!F15 -> 15551385 | H15: ='2018 fi'!H15 -> 0.0086714941
B16: - | C16: Tyska förs. kyrkoskatter | F16: ='2018 fi'!F16 -> 719337.57 | H16: ='2018 fi'!H16 -> 0.096761304
B17: - | C17: Olaus Petri förs. kyrkoskatter | F17: ='2018 fi'!F17 -> 214510.59 | H17: ='2018 fi'!H17 -> -0.031374174
A18: Samfundskatter | G18: ='2018 fi'!G18 -> 5.8834686e+09 | H18: ='2018 fi'!H18 -> 0.045268463
B19: Staten | G19: ='2018 fi'!G19 -> 4.029699e+09 | H19: ='2018 fi'!H19 -> 0.029927563
B20: Kommuner | G20: ='2018 fi'!G20 -> 1.8537696e+09 | H20: ='2018 fi'!H20 -> 0.080245539
B21: Evangelisk-lutherska församlingar | H21: ='2018 fi'!H21 -> 0
B22: Ortodoxa kyrkan | H22: ='2018 fi'!H22 -> 0
A23: Rundradioskatter för samfund | G23: ='2018 fi'!G23 -> 27543297 | H23: ='2018 fi'!H23 -> 0.052756439
A24: Kvarskatter | G24: ='2018 fi'!G24 -> 1.8031403e+09 | H24: ='2018 fi'!H24 -> 0.078999929
B25: Personkunder | G25: ='2018 fi'!G25 -> 1.1637778e+09 | H25: ='2018 fi'!H25 -> 0.0046172403
B26: Samfund | G26: ='2018 fi'!G26 -> 6.3936256e+08 | H26: ='2018 fi'!H26 -> 0.24706756
A27: Skatteåterbäringar | G27: ='2018 fi'!G27 -> 3.6332431e+09 | H27: ='2018 fi'!H27 -> 0.05214282
B28: Personkunder | G28: ='2018 fi'!G28 -> 2.9629576e+09 | H28: ='2018 fi'!H28 -> 0.0080425151
B29: Samfund | G29: ='2018 fi'!G29 -> 6.7028546e+08 | H29: ='2018 fi'!H29 -> 0.30439686

Sheet 2017 sv
A1: SKATTEFÖRVALTNINGEN | F1: INKOMSTSKATTER | H1: N223
H2: 30.10.2018
G3: SKATTEÅR | H3: 2017
F5: € | H5: Ändring
A6: Skatter av förvärvs- och kapitalinkomster | G6: 3.0075099e+10 | H6: -0.014302411
B7: Statsskatter | G7: 8.972061e+09 | H7: 0.013883283
B8: - | C8: av förvärvsinkomster | F8: 5.536903e+09 | H8: -0.052846957
B9: - | C9: av kapitalinkomster | F9: 2.9453969e+09 | H9: 0.16956379
B10: - | C10: rundradioskatter | F10: 4.8976108e+08 | H10: 0.009826956
B11: Kommunalskatter | G11: 1.853224e+10 | H11: -0.01361006
B12: Sjukförsäkringspremie | G12: 1.6892015e+09 | H12: -0.14054068
B13: Kyrkoskatter | G13: 8.8159679e+08 | H13: -0.030054378
B14: - | C14: Ev luth. kyrkoskatter | F14: 8.6530177e+08 | H14: -0.030126572
B15: - | C15: Ortodoxa kyrkoskatter | F15: 15417690 | H15: -0.029370765
B16: - | C16: Tyska förs. kyrkoskatter | F16: 655874.32 | H16: 0.037708667
B17: - | C17: Olaus Petri förs. kyrkoskatter | F17: 221458.67 | H17: 0.019297687
A18: Samfundskatter | G18: 5.6286675e+09 | H18: 0.019589546
B19: Staten | G19: 3.9126043e+09 | H19: 0.028573432
B20: Kommuner | G20: 1.7160632e+09 | H20: -0.00031825597
B21: Evangelisk-lutherska församlingar | G21: 0
B22: Ortodoxa kyrkan | G22: 0
A23: Rundradioskatter för samfund | G23: 26163029 | H23: 0.13203147
A24: Kvarskatter | G24: 1.6711218e+09 | H24: 0.12672986
B25: Personkunder | G25: 1.158429e+09 | H25: 0.051371155
B26: Samfund | G26: 5.126928e+08 | H26: 0.34447134
A27: Förskottsåterbäringar | G27: 3.4531843e+09 | H27: 0.12365336
B28: Personkunder | G28: 2.9393181e+09 | H28: 0.12462027
B29: Samfund | G29: 5.138662e+08 | H29: 0.11815444

Sheet 2016 fi
A1: VEROHALLINTO | F1: TULOVEROT | H1: N223
H2: 25.10.2017
G3: VEROVUOSI | H3: 2016
F5: € | H5: Muutos
A6: Ansio- ja pääomatuloverot | G6: 3.0511487e+10 | H6: 0.0001480335
B7: Valtion verot | G7: 8.849205e+09 | H7: -0.019438856
B8: - | C8: ansiotuloista | F8: 5.8458377e+09 | H8: -0.0047446579
B9: - | C9: pääomatuloista | F9: 2.5183722e+09 | H9: -0.048784142
B10: - | C10: yleisradioverot | F10: 4.8499505e+08 | H10: -0.036556329
B11: Kunnallisverot | G11: 1.8787945e+10 | H11: 0.0084214799
B12: Sairausvakuutusmaksu | G12: 1.9654234e+09 | H12: 0.013732457
B13: Kirkollisverot | G13: 9.0891363e+08 | H13: -0.0039242266
B14: - | C14: evankelisluterilaiset seurakunnat | F14: 8.921801e+08 | H14: -0.0046421925
B15: - | C15: ortodoksiset seurakunnat | F15: 15884222 | H15: 0.038354035 | O15: =1853/1716 -> 1.0798368
B16: - | C16: saksalainen seurakunta | F16: 632040.9 | H16: 0.0033082106
B17: - | C17: Rikssvenska Olaus Petri | F17: 217265.94 | H17: -0.03829773
A18: Yhteisöverot | G18: 5.520523e+09 | H18: 0.23926038
B19: Valtio | G19: 3.8039134e+09 | H19: 0.42074329
B20: Kunnat | G20: 1.7166095e+09 | H20: 0.038588549
B21: Evankelisluterilaiset seurakunnat | G21: 0
B22: Ortodoksinen kirkko | G22: 0
A23: Yhteisöjen yleisradioverot | G23: 23111574 | H23: =G23/'2015 fi'!G23-1 -> 0.067110225
A24: Jäännösverot | G24: 1.483161e+09 | H24: -0.024108974
B25: Henkilöasiakkaat | G25: 1.1018269e+09 | H25: -0.052159068
B26: Yhteisöt | G26: 3.8133412e+08 | H26: 0.067139993
A27: Ennakonpalautukset | G27: 3.0731758e+09 | H27: 0.1000331
B28: Henkilöasiakkaat | G28: 2.6136094e+09 | H28: 0.1016612
B29: Yhteisöt | G29: 4.595664e+08 | H29: 0.090864652

Sheet 2016 sv
A1: SKATTEFÖRVALTNINGEN | F1: INKOMSTSKATTER | H1: N223
H2: 25.10.2017
G3: SKATTEÅR | H3: 2016
F5: € | H5: Ändring
A6: Skatter av förvärvs- och kapitalinkomster | G6: 3.0511487e+10 | H6: 0.0001480335
B7: Statsskatter | G7: 8.849205e+09 | H7: -0.019438856
B8: - | C8: av förvärvsinkomster | F8: 5.8458377e+09 | H8: -0.0047446579
B9: - | C9: av kapitalinkomster | F9: 2.5183722e+09 | H9: -0.048784142
B10: - | C10: rundradioskatter | F10: 4.8499505e+08 | H10: -0.036556329
B11: Kommunalskatter | G11: 1.8787945e+10 | H11: 0.0084214799
B12: Sjukförsäkringspremie | G12: 1.9654234e+09 | H12: 0.013732457
B13: Kyrkoskatter | G13: 9.0891363e+08 | H13: -0.0039242266
B14: - | C14: Ev luth. kyrkoskatter | F14: 8.921801e+08 | H14: -0.0046421925
B15: - | C15: Ortodoxa kyrkoskatter | F15: 15884222 | H15: 0.038354035
B16: - | C16: Tyska förs. kyrkoskatter | F16: 632040.9 | H16: 0.0033082106
B17: - | C17: Olaus Petri förs. kyrkoskatter | F17: 217265.94 | H17: -0.03829773
A18: Samfundskatter | G18: 5.520523e+09 | H18: 0.23926038
B19: Staten | G19: 3.8039134e+09 | H19: 0.42074329
B20: Kommuner | G20: 1.7166095e+09 | H20: 0.038588549
B21: Evangelisk-lutherska församlingar | G21: 0
B22: Ortodoxa kyrkan | G22: 0
A23: Rundradioskatter för samfund | G23: 23111574 | H23: 0.067110225
A24: Kvarskatter | G24: 1.483161e+09 | H24: -0.024108974
B25: Personkunder | G25: 1.1018269e+09 | H25: -0.052159068
B26: Samfund | G26: 3.8133412e+08 | H26: 0.067139993
A27: Förskottsåterbäringar | G27: 3.0731758e+09 | H27: 0.1000331
B28: Personkunder | G28: 2.6136094e+09 | H28: 0.1016612
B29: Samfund | G29: 4.595664e+08 | H29: 0.090864652

Sheet 2015 fi
A1: VEROHALLINTO | F1: TULOVEROT | H1: N223
H2: 28.10.2016
G3: VEROVUOSI | H3: 2015
F5: € | H5: Muutos
A6: Ansio- ja pääomatuloverot | G6: 3.0506971e+10 | H6: 0.020065007
B7: Valtion verot | G7: 9.0246335e+09 | H7: 0.040691243
B8: - | C8: ansiotuloista | F8: 5.8737065e+09 | H8: 0.032303897
B9: - | C9: pääomatuloista | F9: 2.6475296e+09 | H9: 0.066702404
B10: - | C10: yleisradioverot | F10: 5.0339742e+08 | H10: 0.0070121551
B11: Kunnallisverot | G11: 1.8631044e+10 | H11: 0.01611024
B12: Sairausvakuutusmaksu | G12: 1.9387989e+09 | H12: -0.017564624
B13: Kirkollisverot | G13: 9.1249446e+08 | H13: -0.0145914
B14: - | C14: evankelisluterilaiset seurakunnat | F14: 8.9634109e+08 | H14: -0.014689784
B15: - | C15: ortodoksiset seurakunnat | F15: 15297501 | H15: -0.010676759
B16: - | C16: saksalainen seurakunta | F16: 629956.87 | H16: 0.033530297
B17: - | C17: Rikssvenska Olaus Petri | F17: 225918.09 | H17: -0.016163586
A18: Yhteisöverot | G18: 4.4546917e+09 | H18: 0.014539541
B19: Valtio | G19: 2.6774108e+09 | H19: -0.0069557725
B20: Kunnat | G20: 1.6528292e+09 | H20: 0.052270575
B21: Evankelisluterilaiset seurakunnat | G21: 1.2435211e+08 | H21: 0.0039697514
B22: Ortodoksinen kirkko | G22: 99561.34 | H22: 0.0039697413
A23: Yhteisöjen yleisradioverot | G23: 21658094 | H23: 0.043052362
A24: Jäännösverot | G24: 1.5198019e+09 | H24: 0.027413093
B25: Henkilöasiakkaat | G25: 1.1624597e+09 | H25: 0.02822635
B26: Yhteisöt | G26: 3.5734217e+08 | H26: 0.024776389
A27: Ennakonpalautukset | G27: 2.7937121e+09 | H27: 0.029118637
B28: Henkilöasiakkaat | G28: 2.3724258e+09 | H28: 0.027351587
B29: Yhteisöt | G29: 4.2128636e+08 | H29: 0.039184189

Sheet 2015 sv
A1: SKATTEFÖRVALTNINGEN | F1: INKOMSTSKATTER | H1: N223
H2: 28.10.2016
G3: SKATTEÅR | H3: 2015
F5: € | H5: Ändring
A6: Skatter av förvärvs- och kapitalinkomster | G6: 3.0506971e+10 | H6: 0.020065007
B7: Statsskatter | G7: 9.0246335e+09 | H7: 0.040691243
B8: - | C8: av förvärvsinkomster | F8: 5.8737065e+09 | H8: 0.032303897
B9: - | C9: av kapitalinkomster | F9: 2.6475296e+09 | H9: 0.066702404
B10: - | C10: rundradioskatter | F10: 5.0339742e+08 | H10: 0.0070121551
B11: Kommunalskatter | G11: 1.8631044e+10 | H11: 0.01611024
B12: Sjukförsäkringspremie | G12: 1.9387989e+09 | H12: -0.017564624
B13: Kyrkoskatter | G13: 9.1249446e+08 | H13: -0.0145914
B14: - | C14: Ev luth. kyrkoskatter | F14: 8.9634109e+08 | H14: -0.014689784
B15: - | C15: Ortodoxa kyrkoskatter | F15: 15297501 | H15: -0.010676759
B16: - | C16: Tyska förs. kyrkoskatter | F16: 629956.87 | H16: 0.033530297
B17: - | C17: Olaus Petri förs. kyrkoskatter | F17: 225918.09 | H17: -0.016163586
A18: Samfundskatter | G18: 4.4546917e+09 | H18: 0.014539541
B19: Staten | G19: 2.6774108e+09 | H19: -0.0069557725
B20: Kommuner | G20: 1.6528292e+09 | H20: 0.052270575
B21: Evangelisk-lutherska församlingar | G21: 1.2435211e+08 | H21: 0.0039697514
B22: Ortodoxa kyrkan | G22: 99561.34 | H22: 0.0039697413
A23: Rundradioskatter för samfund | G23: 21658094 | H23: 0.043052362
A24: Kvarskatter | G24: 1.5198019e+09 | H24: 0.027413093
B25: Personkunder | G25: 1.1624597e+09 | H25: 0.02822635
B26: Samfund | G26: 3.5734217e+08 | H26: 0.024776389
A27: Förskottsåterbäringar | G27: 2.7937121e+09 | H27: 0.029118637
B28: Personkunder | G28: 2.3724258e+09 | H28: 0.027351587
B29: Samfund | G29: 4.2128636e+08 | H29: 0.039184189

Sheet 2014 fi
A1: VEROHALLINTO | F1: TULOVEROT | H1: N223
H2: 28.10.2015
G3: VEROVUOSI | H3: 2014
F5: € | H5: Muutos
A6: Ansio- ja pääomatuloverot | G6: 2.9906889e+10 | H6: 0.038353292
B7: Valtion verot | G7: 8.6717685e+09 | H7: 0.038243962
B8: - | C8: ansiotuloista | F8: 5.6899005e+09 | H8: 0.0062708111
B9: - | C9: pääomatuloista | F9: 2.4819759e+09 | H9: 0.12257232
B10: - | C10: yleisradioverot | F10: 4.998921e+08 | H10: 0.026625631
B11: Kunnallisverot | G11: 1.8335653e+10 | H11: 0.036670944
B12: Sairausvakuutusmaksu | G12: 1.9734621e+09 | H12: 0.068518479
B13: Kirkollisverot | G13: 9.2600619e+08 | H13: 0.011010788
B14: - | C14: evankelisluterilaiset seurakunnat | F14: 9.0970445e+08 | H14: 0.010945404
B15: - | C15: ortodoksiset seurakunnat | F15: 15462592 | H15: 0.014808663
B16: - | C16: saksalainen seurakunta | F16: 609519.5 | H16: 0.0085379479
B17: - | C17: Rikssvenska Olaus Petri | F17: 229629.73 | H17: 0.021971455
A18: Yhteisöverot | G18: 4.3908508e+09 | H18: -0.053718289
B19: Valtio | G19: 2.6961647e+09 | H19: -0.1444097
B20: Kunnat | G20: 1.5707265e+09 | H20: 0.13890212
B21: Evankelisluterilaiset seurakunnat | G21: 1.2386042e+08 | H21: 0.12980476
B22: Ortodoksinen kirkko | G22: 99167.67 | H22: 0.1298047
A23: Yhteisöjen yleisradioverot | G23: 20764149 | H23: 0.077449488
A24: Jäännösverot | G24: 1.479251e+09 | H24: 0.011162917
B25: Henkilöasiakkaat | G25: 1.1305485e+09 | H25: 0.019681087
B26: Yhteisöt | G26: 3.4870258e+08 | H26: -0.015501436
A27: Ennakonpalautukset | G27: 2.7146648e+09 | H27: -0.005223386
B28: Henkilöasiakkaat | G28: 2.3092637e+09 | H28: 0.025147376
B29: Yhteisöt | G29: 4.0540105e+08 | H29: -0.14885827

Sheet 2014 sv
A1: SKATTEFÖRVALTNINGEN | F1: INKOMSTSKATTER | H1: N223
H2: 28.10.2015
G3: SKATTEÅR | H3: 2014
F5: € | H5: Ändring
A6: Skatter av förvärvs- och kapitalinkomster | G6: 2.9906889e+10 | H6: 0.038353292
B7: Statsskatter | G7: 8.6717685e+09 | H7: 0.038243962
B8: - | C8: av förvärvsinkomster | F8: 5.6899005e+09 | H8: 0.0062708111
B9: - | C9: av kapitalinkomster | F9: 2.4819759e+09 | H9: 0.12257232
B10: - | C10: rundradioskatter | F10: 4.998921e+08 | H10: 0.026625631
B11: Kommunalskatter | G11: 1.8335653e+10 | H11: 0.036670944
B12: Sjukförsäkringspremie | G12: 1.9734621e+09 | H12: 0.068518479
B13: Kyrkoskatter | G13: 9.2600619e+08 | H13: 0.011010788
B14: - | C14: Ev luth. kyrkoskatter | F14: 9.0970445e+08 | H14: 0.010945404
B15: - | C15: Ortodoxa kyrkoskatter | F15: 15462592 | H15: 0.014808663
B16: - | C16: Tyska förs. kyrkoskatter | F16: 609519.5 | H16: 0.0085379479
B17: - | C17: Olaus Petri förs. kyrkoskatter | F17: 229629.73 | H17: 0.021971455
A18: Samfundskatter | G18: 4.3908508e+09 | H18: -0.053718289
B19: Staten | G19: 2.6961647e+09 | H19: -0.1444097
B20: Kommuner | G20: 1.5707265e+09 | H20: 0.13890212
B21: Evangelisk-lutherska församlingar | G21: 1.2386042e+08 | H21: 0.12980476
B22: Ortodoxa kyrkan | G22: 99167.67 | H22: 0.1298047
A23: Rundradioskatter för samfund | G23: 20764149 | H23: 0.077449488
A24: Kvarskatter | G24: 1.479251e+09 | H24: 0.011162917
B25: Personkunder | G25: 1.1305485e+09 | H25: 0.019681087
B26: Samfund | G26: 3.4870258e+08 | H26: -0.015501436
A27: Förskottsåterbäringar | G27: 2.7146648e+09 | H27: -0.005223386
B28: Personkunder | G28: 2.3092637e+09 | H28: 0.025147376
B29: Samfund | G29: 4.0540105e+08 | H29: -0.14885827

Sheet 2013 fi
A1: VEROHALLINTO | F1: TULOVEROT | H1: N223
H2: 28.10.2014
G3: VEROVUOSI | H3: 2013
F5: € | H5: Muutos
A6: Ansio- ja pääomatuloverot | G6: 2.8802229e+10 | H6: 0.072764224
B7: Valtion verot | G7: 8.3523418e+09 | H7: 0.17213747
B8: - | C8: ansiotuloista | F8: 5.6544426e+09 | H8: 0.068860749
B9: - | C9: pääomatuloista | F9: 2.2109719e+09 | H9: 0.20451031
B10: - | C10: yleisradioverot | F10: 4.8692735e+08
B11: Kunnallisverot | G11: 1.7687052e+10 | H11: 0.038641666
B12: Sairausvakuutusmaksu | G12: 1.8469143e+09 | H12: 0.026409211
B13: Kirkollisverot | G13: 9.1592117e+08 | H13: 0.023994224
B14: - | C14: evankelisluterilaiset seurakunnat | F14: 8.9985517e+08 | H14: 0.023673545
B15: - | C15: ortodoksiset seurakunnat | F15: 15236953 | H15: 0.044288833
B16: - | C16: saksalainen seurakunta | F16: 604359.51 | H16: 0.019352912
B17: - | C17: Rikssvenska Olaus Petri | F17: 224692.9 | H17: -0.025740008
A18: Yhteisöverot | G18: 4.6401095e+09 | H18: -0.00757239
B19: Valtio | G19: 3.1512334e+09 | H19: -0.025053029
B20: Kunnat | G20: 1.3791584e+09 | H20: 0.032981588
B21: Evankelisluterilaiset seurakunnat | G21: 1.0962993e+08 | H21: 0.014210764
B22: Ortodoksinen kirkko | G22: 87774.17 | H22: 0.014210872
A23: Yhteisöjen yleisradioverot | G23: 19271575
A24: Jäännösverot | G24: 1.4629206e+09 | H24: 0.096704895
B25: Henkilöasiakkaat | G25: 1.1087275e+09 | H25: 0.11248902
B26: Yhteisöt | G26: 3.5419308e+08 | H26: 0.050068269
A27: Ennakonpalautukset | G27: 2.728919e+09 | H27: -0.028917556
B28: Henkilöasiakkaat | G28: 2.2526164e+09 | H28: -0.05130349
B29: Yhteisöt | G29: 4.7630264e+08 | H29: 0.093065136

Sheet 2013 sv
A1: SKATTEFÖRVALTNINGEN | F1: INKOMSTSKATTER | H1: N223
H2: 28.10.2014
G3: SKATTEÅR | H3: 2013
F5: € | H5: Ändring
A6: Skatter av förvärvs- och kapitalinkomster | G6: 2.8802229e+10 | H6: 0.072764224
B7: Statsskatter | G7: 8.3523418e+09 | H7: 0.17213747
B8: - | C8: av förvärvsinkomster | F8: 5.6544426e+09 | H8: 0.068860749
B9: - | C9: av kapitalinkomster | F9: 2.2109719e+09 | H9: 0.20451031
B10: - | C10: rundradioskatter | F10: 4.8692735e+08
B11: Kommunalskatter | G11: 1.7687052e+10 | H11: 0.038641666
B12: Sjukförsäkringspremie | G12: 1.8469143e+09 | H12: 0.026409211
B13: Kyrkoskatter | G13: 9.1592117e+08 | H13: 0.023994224
B14: - | C14: Ev luth. kyrkoskatter | F14: 8.9985517e+08 | H14: 0.023673545
B15: - | C15: Ortodoxa kyrkoskatter | F15: 15236953 | H15: 0.044288833
B16: - | C16: Tyska förs. kyrkoskatter | F16: 604359.51 | H16: 0.019352912
B17: - | C17: Olaus Petri förs. kyrkoskatter | F17: 224692.9 | H17: -0.025740008
A18: Samfundskatter | G18: 4.6401095e+09 | H18: -0.00757239
B19: Staten | G19: 3.1512334e+09 | H19: -0.025053029
B20: Kommuner | G20: 1.3791584e+09 | H20: 0.032981588
B21: Evangelisk-lutherska församlingar | G21: 1.0962993e+08 | H21: 0.014210764
B22: Ortodoxa kyrkan | G22: 87774.17 | H22: 0.014210872
A23: Rundradioskatter för samfund | G23: 19271575
A24: Kvarskatter | G24: 1.4629206e+09 | H24: 0.096704895
B25: Personkunder | G25: 1.1087275e+09 | H25: 0.11248902
B26: Samfund | G26: 3.5419308e+08 | H26: 0.050068269
A27: Förskottsåterbäringar | G27: 2.728919e+09 | H27: -0.028917556
