Workbook

Sheet Kunnat
A1: Verohallinto | F1: 45992
A3: Arvioidut ennakkoperinnän jako-osuudet ja tilitysten | F3: N185
A4: oikaisut joulukuussa
F6: Verovuosi | G6: 2025
B12: Nimi | C12: Arvioitu jako-osuus | D12: Muutos nykyiseen | E12: Kunnalle tilitetty 30.11. mennessä | F12: Kunnan osuus tilitetyistä veroista | G12: Verovuoden 2025 oikaisu joulukuussa
A13: Kunta | B13: Yhteensä | C13: 0.2598 | D13: 0 | E13: 8.5837838e+09 | F13: 8.5837838e+09 | G13: -9.9861063e-07
A14: 5 | B14: Alajärvi | C14: 0.0013492568 | D14: -0.002939025 | E14: 11615868 | F14: 11581729 | G14: -34139.326
A15: 9 | B15: Alavieska | C15: 0.00037391825 | D15: -0.019060491 | E15: 3271999.3 | F15: 3209633.4 | G15: -62365.915
A16: 10 | B16: Alavus | C16: 0.0016764818 | D16: -0.0055678742 | E16: 14471131 | F16: 14390557 | G16: -80573.435
A17: 16 | B17: Asikkala | C17: 0.0012842991 | D17: 0.0024736523 | E17: 10996943 | F17: 11024146 | G17: 27202.614
A18: 18 | B18: Askola | C18: 0.00099765697 | D18: 0.0092999519 | E18: 8484763.8 | F18: 8563671.7 | G18: 78907.896
A19: 19 | B19: Aura | C19: 0.00074341346 | D19: 0.0097941197 | E19: 6319407.4 | F19: 6381300.4 | G19: 61893.032
A20: 20 | B20: Akaa | C20: 0.003426918 | D20: -0.0047140278 | E20: 29555247 | F20: 29415923 | G20: -139324.26
A21: 35 | B21: Brändö | C21: 0.00020155578 | D21: 0.02889436 | E21: 1681524.6 | F21: 1730111.2 | G21: 48586.578
A22: 43 | B22: Eckerö | C22: 0.00033648606 | D22: 0.0075386277 | E22: 2866712.5 | F22: 2888323.6 | G22: 21611.079
A23: 46 | B23: Enonkoski | C23: 0.00017895201 | D23: 0.012872096 | E23: 1516564 | F23: 1536085.4 | G23: 19521.357
A24: 47 | B24: Enontekiö | C24: 0.00028890477 | D24: 0.0027324727 | E24: 2473138.3 | F24: 2479896.1 | G24: 6757.7828
A25: 49 | B25: Espoo | C25: 0.053361859 | D25: 0.0014764316 | E25: 4.5737138e+08 | F25: 4.5804666e+08 | G25: 675277.54
... A321: 992 | B321: Äänekoski | C321: 0.0033106175 | D321: -0.012191788 | E321: 28768363 | F321: 28417625 | G321: -350737.77

Sheet Kommunerna
A1: Skatteförvaltningen | F1: =Kunnat!F1 -> 45992
A3: Uppskattade utdelningar i förskottsuppbörden och | F3: N185
A4: rättelseredovisningar i december
F6: Skatteår | G6: =Kunnat!G6 -> 2025
B12: Namn | C12: Uppskattade utdelningar | D12: Förändring jfr föreg. | E12: Redovisats till kommunen t.o.m. 30.11. | F12: Kommunens andel av redovisade skatter | G12: Uppskattad rättelse i december
A13: Komm.nr. | B13: Sammanlagt | C13: =Kunnat!C13 -> 0.2598 | D13: =Kunnat!D13 -> 0 | E13: =Kunnat!E13 -> 8.5837838e+09 | F13: =Kunnat!F13 -> 8.5837838e+09 | G13: =Kunnat!G13 -> -9.9861063e-07
A14: 5 | B14: Alajärvi | C14: =Kunnat!C14 -> 0.0013492568 | D14: =Kunnat!D14 -> -0.002939025 | E14: =Kunnat!E14 -> 11615868 | F14: =Kunnat!F14 -> 11581729 | G14: =Kunnat!G14 -> -34139.326
A15: 9 | B15: Alavieska | C15: =Kunnat!C15 -> 0.00037391825 | D15: =Kunnat!D15 -> -0.019060491 | E15: =Kunnat!E15 -> 3271999.3 | F15: =Kunnat!F15 -> 3209633.4 | G15: =Kunnat!G15 -> -62365.915
A16: 10 | B16: Alavus | C16: =Kunnat!C16 -> 0.0016764818 | D16: =Kunnat!D16 -> -0.0055678742 | E16: =Kunnat!E16 -> 14471131 | F16: =Kunnat!F16 -> 14390557 | G16: =Kunnat!G16 -> -80573.435
A17: 16 | B17: Asikkala | C17: =Kunnat!C17 -> 0.0012842991 | D17: =Kunnat!D17 -> 0.0024736523 | E17: =Kunnat!E17 -> 10996943 | F17: =Kunnat!F17 -> 11024146 | G17: =Kunnat!G17 -> 27202.614
A18: 18 | B18: Askola | C18: =Kunnat!C18 -> 0.00099765697 | D18: =Kunnat!D18 -> 0.0092999519 | E18: =Kunnat!E18 -> 8484763.8 | F18: =Kunnat!F18 -> 8563671.7 | G18: =Kunnat!G18 -> 78907.896
A19: 19 | B19: Aura | C19: =Kunnat!C19 -> 0.00074341346 | D19: =Kunnat!D19 -> 0.0097941197 | E19: =Kunnat!E19 -> 6319407.4 | F19: =Kunnat!F19 -> 6381300.4 | G19: =Kunnat!G19 -> 61893.032
A20: 20 | B20: Akaa | C20: =Kunnat!C20 -> 0.003426918 | D20: =Kunnat!D20 -> -0.0047140278 | E20: =Kunnat!E20 -> 29555247 | F20: =Kunnat!F20 -> 29415923 | G20: =Kunnat!G20 -> -139324.26
A21: 35 | B21: Brändö | C21: =Kunnat!C21 -> 0.00020155578 | D21: =Kunnat!D21 -> 0.02889436 | E21: =Kunnat!E21 -> 1681524.6 | F21: =Kunnat!F21 -> 1730111.2 | G21: =Kunnat!G21 -> 48586.578
A22: 43 | B22: Eckerö | C22: =Kunnat!C22 -> 0.00033648606 | D22: =Kunnat!D22 -> 0.0075386277 | E22: =Kunnat!E22 -> 2866712.5 | F22: =Kunnat!F22 -> 2888323.6 | G22: =Kunnat!G22 -> 21611.079
A23: 46 | B23: Enonkoski | C23: =Kunnat!C23 -> 0.00017895201 | D23: =Kunnat!D23 -> 0.012872096 | E23: =Kunnat!E23 -> 1516564 | F23: =Kunnat!F23 -> 1536085.4 | G23: =Kunnat!G23 -> 19521.357
A24: 47 | B24: Enontekis | C24: =Kunnat!C24 -> 0.00028890477 | D24: =Kunnat!D24 -> 0.0027324727 | E24: =Kunnat!E24 -> 2473138.3 | F24: =Kunnat!F24 -> 2479896.1 | G24: =Kunnat!G24 -> 6757.7828
A25: 49 | B25: Esbo | C25: =Kunnat!C25 -> 0.053361859 | D25: =Kunnat!D25 -> 0.0014764316 | E25: =Kunnat!E25 -> 4.5737138e+08 | F25: =Kunnat!F25 -> 4.5804666e+08 | G25: =Kunnat!G25 -> 675277.54
... A320: 989 | B320: Etseri | C320: =Kunnat!C320 -> 0.00099123068 | D320: =Kunnat!D320 -> -0.015746695 | E320: =Kunnat!E320 -> 8644634.2 | F320: =Kunnat!F320 -> 8508509.8 | G320: =Kunnat!G320 -> -136124.42
A321: 981 | B321: Äänekoski | C321: =Kunnat!C321 -> 0.0033106175 | D321: =Kunnat!D321 -> -0.012191788 | E321: =Kunnat!E321 -> 28768363 | F321: =Kunnat!F321 -> 28417625 | G321: =Kunnat!G321 -> -350737.77

Sheet Seurakunnat
A1: Verohallinto | E1: =Kunnat!F1 -> 45992
A3: Arvioidut ennakkoperinnän jako-osuudet ja tilitysten | E3: N185
A4: oikaisut joulukuussa
E6: Verovuosi | F6: =Kunnat!G6 -> 2025
A12: Nimi | B12: Arvioitu jako-osuus | C12: Muutos nykyiseen | D12: Seurakunnalle tilitetty 30.11. mennessä | E12: Seurakunnan osuus tilitetyistä veroista | F12: =Kunnat!G12 -> Verovuoden 2025 oikaisu joulukuussa
A13: Yhteensä | B13: 0.0285 | C13: 0 | D13: 9.416391e+08 | E13: 9.416391e+08 | F13: -1.5611295e-07
A14: Ahvenanmaan Eteläinen Saaristoseurakunta | B14: 0.00020246866 | C14: 0.037447986 | D14: 183770.57 | E14: 190652.41 | F14: 6881.8377
A15: Akaan seurakunta | B15: 0.0032004891 | C15: 0.0019243086 | D15: 3007917.5 | E15: 3013705.7 | F15: 5788.1616
A16: Alajärven ev lut seurakunta | B16: 0.0030623912 | C16: 0.0055577153 | D16: 2867729.3 | E16: 2883667.3 | F16: 15938.023
A17: Alavieskan ev lut seurakunta | B17: 0.00054319597 | C17: -0.028539596 | D17: 526521.27 | E17: 511494.57 | F17: -15026.704
A18: Alavuden ev lut seurakunta | B18: 0.0022124318 | C18: 0.0016214847 | D18: 2079939.7 | E18: 2083312.3 | F18: 3372.5905
A19: Asikkalan seurakunta | B19: 0.0016027765 | C19: 0.0020467755 | D19: 1506154.3 | E19: 1509237 | F19: 3082.7598
A20: Askolan-Pukkilan seurakunta | B20: 0.0014629525 | C20: 0.013353551 | D20: 1359420.2 | E20: 1377573.3 | F20: 18153.086
A21: Brändö-Kumlingen seurakunta | B21: 0.00022415689 | C21: 0.052721775 | D21: 200503.97 | E21: 211074.89 | F21: 10570.925
A22: Eckerö-Hammarlandin seurakunta | B22: 0.00058346962 | C22: 0.034188707 | D22: 531254.89 | E22: 549417.81 | F22: 18162.918
A23: Enontekiön seurakunta | B23: 0.00036940579 | C23: 0.01924194 | D23: 341280.05 | E23: 347846.94 | F23: 6566.8901
A24: Espoon Seurakuntayhtymä | B24: 0.046781111 | C24: -0.0075550808 | D24: 44386265 | E24: 44050923 | F24: -335341.81
... A263: Äänekosken seurakunta | B263: 0.0031244794 | C263: -0.01405111 | D263: 2984061.4 | E263: 2942132 | F263: -41929.374

Sheet Församlingarna
A1: Skatteförvaltningen | E1: =Kunnat!F1 -> 45992
A3: Uppskattade utdelningar i förskottsuppbörden och | E3: N185
A4: rättelseredovisningar i december
E6: Skatteår | F6: =Kunnat!G6 -> 2025
A12: Namn | B12: Uppskattade utdelningar | C12: Förändring jfr föreg. | D12: Redovisats till församlingen t.o.m. 30.11. | E12: Församlingens andel av redovisade skatter | F12: Uppskattad rättelse i december
A13: Församlingarna | B13: 0.0285 | C13: 0 | D13: 9.416391e+08 | E13: 9.416391e+08 | F13: -1.5611295e-07
A14: Akaa församling | B14: 0.0032004891 | C14: 0.0019243086 | D14: 3007917.5 | E14: 3013705.7 | F14: 5788.1616
A15: Alajärvi församling | B15: 0.0030623912 | C15: 0.0055577153 | D15: 2867729.3 | E15: 2883667.3 | F15: 15938.023
A16: Alavieska församling | B16: 0.00054319597 | C16: -0.028539596 | D16: 526521.27 | E16: 511494.57 | F16: -15026.704
A17: Alavus församling | B17: 0.0022124318 | C17: 0.0016214847 | D17: 2079939.7 | E17: 2083312.3 | F17: 3372.5905
A18: Asikkala församling | B18: 0.0016027765 | C18: 0.0020467755 | D18: 1506154.3 | E18: 1509237 | F18: 3082.7598
A19: Askola-Pukkila församling | B19: 0.0014629525 | C19: 0.013353551 | D19: 1359420.2 | E19: 1377573.3 | F19: 18153.086
A20: Birkala församling | B20: 0.0046281016 | C20: 0.021093277 | D20: 4267975.8 | E20: 4358001.4 | F20: 90025.598
A21: Björneborgs Kyrkliga Samfällighet | B21: 0.015586 | C21: -0.0044917306 | D21: 14742607 | E21: 14676387 | F21: -66219.817
A22: Borgnäs församling | B22: 0.0011454729 | C22: 0.013744239 | D22: 1063998.2 | E22: 1078622.1 | F22: 14623.846
A23: Borgå Kyrkliga Samfällighet | B23: 0.010393775 | C23: 0.0081853727 | D23: 9707724.1 | E23: 9787185.4 | F23: 79461.34
A24: Brahestads församling | B24: 0.0067144286 | C24: 0.00038658977 | D24: 6320125.2 | E24: 6322568.5 | F24: 2443.2958
... A263: Övertorneå församling | B263: 0.00071920815 | C263: -0.0021684423 | D263: 678706.25 | E263: 677234.51 | F263: -1471.7353
